BEGIN:VCALENDAR
VERSION:2.0
PRODID:-//Skive Sejlklub - ECPv6.15.17.1//NONSGML v1.0//EN
CALSCALE:GREGORIAN
METHOD:PUBLISH
X-ORIGINAL-URL:https://skivesejlklub.dk
X-WR-CALDESC:Begivenheder for Skive Sejlklub
REFRESH-INTERVAL;VALUE=DURATION:PT1H
X-Robots-Tag:noindex
X-PUBLISHED-TTL:PT1H
BEGIN:VTIMEZONE
TZID:Europe/Copenhagen
BEGIN:DAYLIGHT
TZOFFSETFROM:+0100
TZOFFSETTO:+0200
TZNAME:CEST
DTSTART:20200329T010000
END:DAYLIGHT
BEGIN:STANDARD
TZOFFSETFROM:+0200
TZOFFSETTO:+0100
TZNAME:CET
DTSTART:20201025T010000
END:STANDARD
BEGIN:DAYLIGHT
TZOFFSETFROM:+0100
TZOFFSETTO:+0200
TZNAME:CEST
DTSTART:20210328T010000
END:DAYLIGHT
BEGIN:STANDARD
TZOFFSETFROM:+0200
TZOFFSETTO:+0100
TZNAME:CET
DTSTART:20211031T010000
END:STANDARD
BEGIN:DAYLIGHT
TZOFFSETFROM:+0100
TZOFFSETTO:+0200
TZNAME:CEST
DTSTART:20220327T010000
END:DAYLIGHT
BEGIN:STANDARD
TZOFFSETFROM:+0200
TZOFFSETTO:+0100
TZNAME:CET
DTSTART:20221030T010000
END:STANDARD
BEGIN:DAYLIGHT
TZOFFSETFROM:+0100
TZOFFSETTO:+0200
TZNAME:CEST
DTSTART:20230326T010000
END:DAYLIGHT
BEGIN:STANDARD
TZOFFSETFROM:+0200
TZOFFSETTO:+0100
TZNAME:CET
DTSTART:20231029T010000
END:STANDARD
BEGIN:DAYLIGHT
TZOFFSETFROM:+0100
TZOFFSETTO:+0200
TZNAME:CEST
DTSTART:20240331T010000
END:DAYLIGHT
BEGIN:STANDARD
TZOFFSETFROM:+0200
TZOFFSETTO:+0100
TZNAME:CET
DTSTART:20241027T010000
END:STANDARD
BEGIN:DAYLIGHT
TZOFFSETFROM:+0100
TZOFFSETTO:+0200
TZNAME:CEST
DTSTART:20250330T010000
END:DAYLIGHT
BEGIN:STANDARD
TZOFFSETFROM:+0200
TZOFFSETTO:+0100
TZNAME:CET
DTSTART:20251026T010000
END:STANDARD
BEGIN:DAYLIGHT
TZOFFSETFROM:+0100
TZOFFSETTO:+0200
TZNAME:CEST
DTSTART:20260329T010000
END:DAYLIGHT
BEGIN:STANDARD
TZOFFSETFROM:+0200
TZOFFSETTO:+0100
TZNAME:CET
DTSTART:20261025T010000
END:STANDARD
END:VTIMEZONE
BEGIN:VEVENT
DTSTART;VALUE=DATE:20251109
DTEND;VALUE=DATE:20251110
DTSTAMP:20260421T115733
CREATED:20250831T130336Z
LAST-MODIFIED:20250831T130336Z
UID:10000376-1762646400-1762732799@skivesejlklub.dk
SUMMARY:67 Huset Generalforsamling
DESCRIPTION:Arrangementet afholdes i Skive Sejlklubs lokaler
URL:https://skivesejlklub.dk/event/67-huset-generalforsamling/
LOCATION:Skive Sejlklub – Klubhus\, Strandvejen 24\, Skive\, 7800
CATEGORIES:Eksternt arrangement
ATTACH;FMTTYPE=image/jpeg:https://skivesejlklub.dk/wp-content/uploads/2019/03/group-of-busy-business-people-working-in-office-PEUZKTK.jpg
END:VEVENT
BEGIN:VEVENT
DTSTART;TZID=Europe/Copenhagen:20231119T100000
DTEND;TZID=Europe/Copenhagen:20231119T120000
DTSTAMP:20260421T115733
CREATED:20231106T081808Z
LAST-MODIFIED:20231106T081808Z
UID:10000244-1700388000-1700395200@skivesejlklub.dk
SUMMARY:Generalforsamling Bådelauget af 1967
DESCRIPTION:
URL:https://skivesejlklub.dk/event/generalforsamling-baadelauget-af-1967-4/
LOCATION:Skive Sejlklub – Klubhus\, Strandvejen 24\, Skive\, 7800
CATEGORIES:Eksternt arrangement
END:VEVENT
BEGIN:VEVENT
DTSTART;TZID=Europe/Copenhagen:20221123T190000
DTEND;TZID=Europe/Copenhagen:20221123T210000
DTSTAMP:20260421T115733
CREATED:20221107T192911Z
LAST-MODIFIED:20221107T211823Z
UID:10000188-1669230000-1669237200@skivesejlklub.dk
SUMMARY:Generalforsamling Bådelauget af 1967
DESCRIPTION:
URL:https://skivesejlklub.dk/event/generalforsamling-baadelauget-af-1967-3/
LOCATION:Skive Sejlklub – Klubhus\, Strandvejen 24\, Skive\, 7800
CATEGORIES:Eksternt arrangement
END:VEVENT
BEGIN:VEVENT
DTSTART;TZID=Europe/Copenhagen:20211125T190000
DTEND;TZID=Europe/Copenhagen:20211125T210000
DTSTAMP:20260421T115733
CREATED:20211119T074804Z
LAST-MODIFIED:20211119T074947Z
UID:10000103-1637866800-1637874000@skivesejlklub.dk
SUMMARY:Generalforsamling - Bådelauget af 1967
DESCRIPTION:
URL:https://skivesejlklub.dk/event/generalforsamling-baadelauget-af-1967-2/
LOCATION:Skive Sejlklub – Klubhus\, Strandvejen 24\, Skive\, 7800
CATEGORIES:Eksternt arrangement
END:VEVENT
END:VCALENDAR