BEGIN:VCALENDAR
VERSION:2.0
PRODID:-//Skive Sejlklub - ECPv6.15.17.1//NONSGML v1.0//EN
CALSCALE:GREGORIAN
METHOD:PUBLISH
X-WR-CALNAME:Skive Sejlklub
X-ORIGINAL-URL:https://skivesejlklub.dk
X-WR-CALDESC:Begivenheder for Skive Sejlklub
REFRESH-INTERVAL;VALUE=DURATION:PT1H
X-Robots-Tag:noindex
X-PUBLISHED-TTL:PT1H
BEGIN:VTIMEZONE
TZID:Europe/Copenhagen
BEGIN:DAYLIGHT
TZOFFSETFROM:+0100
TZOFFSETTO:+0200
TZNAME:CEST
DTSTART:20210328T010000
END:DAYLIGHT
BEGIN:STANDARD
TZOFFSETFROM:+0200
TZOFFSETTO:+0100
TZNAME:CET
DTSTART:20211031T010000
END:STANDARD
BEGIN:DAYLIGHT
TZOFFSETFROM:+0100
TZOFFSETTO:+0200
TZNAME:CEST
DTSTART:20220327T010000
END:DAYLIGHT
BEGIN:STANDARD
TZOFFSETFROM:+0200
TZOFFSETTO:+0100
TZNAME:CET
DTSTART:20221030T010000
END:STANDARD
BEGIN:DAYLIGHT
TZOFFSETFROM:+0100
TZOFFSETTO:+0200
TZNAME:CEST
DTSTART:20230326T010000
END:DAYLIGHT
BEGIN:STANDARD
TZOFFSETFROM:+0200
TZOFFSETTO:+0100
TZNAME:CET
DTSTART:20231029T010000
END:STANDARD
END:VTIMEZONE
BEGIN:VEVENT
DTSTART;TZID=Europe/Copenhagen:20221114T183000
DTEND;TZID=Europe/Copenhagen:20221114T210000
DTSTAMP:20260423T021640
CREATED:20221005T085654Z
LAST-MODIFIED:20221005T085654Z
UID:10000184-1668450600-1668459600@skivesejlklub.dk
SUMMARY:Foredrag: Mads & de Gamle Sure Mænd
DESCRIPTION:Få et godt grin og måske lidt stof til eftertanke\, når Danske Tursejlere gentager succesen med en håndfuld særdeles underholdende foredrag med Danmarks største blærerøv – Mads Christensen. \nPå baggrund af den store efterspørgsel\, og de positive tilbagemeldinger fra efterårets ”foredrags-tour” i 2021\, drager Danske Tursejlere og Mads Christensen atter på ”turné” – og denne gang i fire nye områder. \nMads er forfatter\, foredragsholder\, konferencier og meget andet\, men han er nok bedst kendt som hudløst ærligt modefænomen\, og humoristisk provokerende hurtigsnakker. \nMen Mads er også en erfaren sejler\, der har brugt mange timer på eventyr til søs. Ja faktisk har han indtil for nyligt boet i en periode ombord på sin dømmebåd i København – og hvis vi ikke tager helt fejl\, så kommer vi helt sikkert til at høre om dén kærlighedshistorie. \nForedragene vil i det hele taget tage afsæt i Mads’ erfaringer fra et liv med sejlads\, hvor han med et glimt i øjet giver et kærligt klap bagi til det sejlende folk; \n\nEr “gamle sure mænd” en myte eller virkelighed i sejlerverden?\nHvordan får vi åbnet døren i klubben for flere kvinder\, unge mennesker og landkrabberne?\nKan en skipper egentlig tillade sig at udstikke direkte ordrer ombord en båd i et moderne samfund?\n\nMåske får vi svarene under foredraget. Det bliver i hvert fald sjovt\, tankevækkende og det kommer helt sikkert ikke til at gå stille for sig. \nPris per deltager:\nMedlem af Danske Tursejlere: 100 kr.\nIkke-medlem: 125 kr.\nPrisen inkluderer en forfriskning i pausen. \nDørene åbner: kl. 18:30\nForedraget starter: kl. 19:00\nVarighed: ca. 2 timer + pause \nTilmelding: https://shop.dansketursejlere.dk/vare/mads-christensen/ \n 
URL:https://skivesejlklub.dk/event/foredrag-mads-de-gamle-sure-maend/
LOCATION:Skive Sejlklub – Klubhus\, Strandvejen 24\, Skive\, 7800
CATEGORIES:Eksternt arrangement,Foredrag,Socialt arrangement
ATTACH;FMTTYPE=image/jpeg:https://skivesejlklub.dk/wp-content/uploads/2022/10/1600px_COLOURBOX39031467-1024x683-1.jpg
END:VEVENT
END:VCALENDAR