BEGIN:VCALENDAR
VERSION:2.0
PRODID:-//Skive Sejlklub - ECPv6.15.17.1//NONSGML v1.0//EN
CALSCALE:GREGORIAN
METHOD:PUBLISH
X-WR-CALNAME:Skive Sejlklub
X-ORIGINAL-URL:https://skivesejlklub.dk
X-WR-CALDESC:Begivenheder for Skive Sejlklub
REFRESH-INTERVAL;VALUE=DURATION:PT1H
X-Robots-Tag:noindex
X-PUBLISHED-TTL:PT1H
BEGIN:VTIMEZONE
TZID:Europe/Copenhagen
BEGIN:DAYLIGHT
TZOFFSETFROM:+0100
TZOFFSETTO:+0200
TZNAME:CEST
DTSTART:20210328T010000
END:DAYLIGHT
BEGIN:STANDARD
TZOFFSETFROM:+0200
TZOFFSETTO:+0100
TZNAME:CET
DTSTART:20211031T010000
END:STANDARD
BEGIN:DAYLIGHT
TZOFFSETFROM:+0100
TZOFFSETTO:+0200
TZNAME:CEST
DTSTART:20220327T010000
END:DAYLIGHT
BEGIN:STANDARD
TZOFFSETFROM:+0200
TZOFFSETTO:+0100
TZNAME:CET
DTSTART:20221030T010000
END:STANDARD
BEGIN:DAYLIGHT
TZOFFSETFROM:+0100
TZOFFSETTO:+0200
TZNAME:CEST
DTSTART:20230326T010000
END:DAYLIGHT
BEGIN:STANDARD
TZOFFSETFROM:+0200
TZOFFSETTO:+0100
TZNAME:CET
DTSTART:20231029T010000
END:STANDARD
BEGIN:DAYLIGHT
TZOFFSETFROM:+0100
TZOFFSETTO:+0200
TZNAME:CEST
DTSTART:20240331T010000
END:DAYLIGHT
BEGIN:STANDARD
TZOFFSETFROM:+0200
TZOFFSETTO:+0100
TZNAME:CET
DTSTART:20241027T010000
END:STANDARD
BEGIN:DAYLIGHT
TZOFFSETFROM:+0100
TZOFFSETTO:+0200
TZNAME:CEST
DTSTART:20250330T010000
END:DAYLIGHT
BEGIN:STANDARD
TZOFFSETFROM:+0200
TZOFFSETTO:+0100
TZNAME:CET
DTSTART:20251026T010000
END:STANDARD
BEGIN:DAYLIGHT
TZOFFSETFROM:+0100
TZOFFSETTO:+0200
TZNAME:CEST
DTSTART:20260329T010000
END:DAYLIGHT
BEGIN:STANDARD
TZOFFSETFROM:+0200
TZOFFSETTO:+0100
TZNAME:CET
DTSTART:20261025T010000
END:STANDARD
END:VTIMEZONE
BEGIN:VEVENT
DTSTART;TZID=Europe/Copenhagen:20250111T130000
DTEND;TZID=Europe/Copenhagen:20250111T150000
DTSTAMP:20260421T115045
CREATED:20241114T091326Z
LAST-MODIFIED:20241114T091326Z
UID:10000289-1736600400-1736607600@skivesejlklub.dk
SUMMARY:Skive Sejlklub og FTLF inviterer til foredrag om Skotland
DESCRIPTION:Bente og Carsten Scmidt sejlede i sommeren 2023 fra Aabenraa til Skotland. De tog turen til Inverness og sejlede gennem den Kaledoniske kanal. Der vil være masser af billeder og videoklip fra det smukke højland. \nDe vil komme ind på overvejelser og gennemførsel af offshoresejlads i Nordsøen\, gennemsejling af den Kaledoniske kanal og tidevandssejlads på den skotske vestkyst. \nDer vil blive lagt vægt på oplevelser og observationer\, som de selv har haft som relativt nye offshoresejlere. \nForedraget afholdes lørdag d. 11. januar kl. 13 og vil vare i ca. 2 timer. \nArrangementet er gratis for medlemmer af Skive Sejlklub og FTLF. \nDet vil være muligt at købe kaffe/kage\, øl og vand. \nVi glæder os til at se så mange som muligt. \nDe bedste sejlerhilsner \nSkive sejlklub og AG Vestjylland
URL:https://skivesejlklub.dk/event/skive-sejlklub-og-ftlf-inviterer-til-foredrag-om-skotland/
LOCATION:Skive Sejlklub – Klubhus\, Strandvejen 24\, Skive\, 7800
CATEGORIES:Fælles,Foredrag,Socialt arrangement
ATTACH;FMTTYPE=image/jpeg:https://skivesejlklub.dk/wp-content/uploads/2024/11/20230730_081102-scaled.jpg
END:VEVENT
BEGIN:VEVENT
DTSTART;TZID=Europe/Copenhagen:20240306T190000
DTEND;TZID=Europe/Copenhagen:20240306T210000
DTSTAMP:20260421T115045
CREATED:20240223T154139Z
LAST-MODIFIED:20240223T154139Z
UID:10000246-1709751600-1709758800@skivesejlklub.dk
SUMMARY:Med S/Y Aurora til Lofoten - Foredrag
DESCRIPTION:Foredrag i Skive Sejlklub i samarbejde med FTLF. \nOnsdag den 6. marts 2024 kl 19:00. \ni Skive sejlklubs lokaler. \nI sommeren 2023 sejlede Johannes Dalbjerg og han kone Jette Ærthøj i deres Contrast 36\, Aurora fra Horsens til Lofoten -200 sømil nord for polarcirklen. Turen foregik som en slags flotillesejlads\, hvor deltagerne holdt hinanden orienterede om deres positioner via en Facebookgruppe\, Facebookgruppen og turen havde også lokale deltagere idet Henrik Neve fra Skive og Villy og Signe fra Virksund sejlede samme rute. \nKom og hør  Johannes i billeder og små videoklip fortælle om deres tur. Det blev til sejlads i storslået natur\, tidevand\, blæst\, regn\, sol og kulde. En sejlads som indeholdt alt. Lige fra skærgårdssejlads til havsejlads i Nordatlanten. Flad vand til store bølger. Verdens stærkeste tidevandsstrøm. \nDer vil også blive fortalt om navigation\, søkort\, strøm og tidevand. \nArrangementet er gratis for medlemmer af Skive Sejlklub og FTLF. Andre betaler kr. 40 for en ostemad og kaffe. \n 
URL:https://skivesejlklub.dk/event/med-s-y-aurora-til-lofoten-foredrag/
LOCATION:Skive Sejlklub – Klubhus\, Strandvejen 24\, Skive\, 7800
CATEGORIES:Foredrag
ATTACH;FMTTYPE=image/png:https://skivesejlklub.dk/wp-content/uploads/2024/02/Billede1.png
END:VEVENT
BEGIN:VEVENT
DTSTART;TZID=Europe/Copenhagen:20220302T190000
DTEND;TZID=Europe/Copenhagen:20220302T210000
DTSTAMP:20260421T115045
CREATED:20201015T051145Z
LAST-MODIFIED:20211122T192948Z
UID:10000085-1646247600-1646254800@skivesejlklub.dk
SUMMARY:Foredrag med Danpilots
DESCRIPTION:Skive sejlklub indbyder i samarbejde med FTLF til en aften med Danpilots.\nVi hører om lodsens arbejde og hvordan tingene ser ud når man står på kommandobroen på et stort skib.
URL:https://skivesejlklub.dk/event/foredrag-med-danpilots/
LOCATION:Skive Sejlklub – Klubhus\, Strandvejen 24\, Skive\, 7800
CATEGORIES:Foredrag
ATTACH;FMTTYPE=image/jpeg:https://skivesejlklub.dk/wp-content/uploads/2020/10/lods-1.jpg
END:VEVENT
END:VCALENDAR