BEGIN:VCALENDAR
VERSION:2.0
PRODID:-//Skive Sejlklub - ECPv6.15.17.1//NONSGML v1.0//EN
CALSCALE:GREGORIAN
METHOD:PUBLISH
X-ORIGINAL-URL:https://skivesejlklub.dk
X-WR-CALDESC:Begivenheder for Skive Sejlklub
REFRESH-INTERVAL;VALUE=DURATION:PT1H
X-Robots-Tag:noindex
X-PUBLISHED-TTL:PT1H
BEGIN:VTIMEZONE
TZID:Europe/Copenhagen
BEGIN:DAYLIGHT
TZOFFSETFROM:+0100
TZOFFSETTO:+0200
TZNAME:CEST
DTSTART:20240331T010000
END:DAYLIGHT
BEGIN:STANDARD
TZOFFSETFROM:+0200
TZOFFSETTO:+0100
TZNAME:CET
DTSTART:20241027T010000
END:STANDARD
BEGIN:DAYLIGHT
TZOFFSETFROM:+0100
TZOFFSETTO:+0200
TZNAME:CEST
DTSTART:20250330T010000
END:DAYLIGHT
BEGIN:STANDARD
TZOFFSETFROM:+0200
TZOFFSETTO:+0100
TZNAME:CET
DTSTART:20251026T010000
END:STANDARD
BEGIN:DAYLIGHT
TZOFFSETFROM:+0100
TZOFFSETTO:+0200
TZNAME:CEST
DTSTART:20260329T010000
END:DAYLIGHT
BEGIN:STANDARD
TZOFFSETFROM:+0200
TZOFFSETTO:+0100
TZNAME:CET
DTSTART:20261025T010000
END:STANDARD
END:VTIMEZONE
BEGIN:VEVENT
DTSTART;TZID=Europe/Copenhagen:20250301T100000
DTEND;TZID=Europe/Copenhagen:20250301T140000
DTSTAMP:20260419T170546
CREATED:20250215T165609Z
LAST-MODIFIED:20250215T165609Z
UID:10000359-1740823200-1740837600@skivesejlklub.dk
SUMMARY:Kvindesejlere på Limfjorden
DESCRIPTION:Netværksmøde i Lemvig den 1 marts kl. 10 – 14 \nLink til begivenhed
URL:https://skivesejlklub.dk/event/kvindesejlere-paa-limfjorden/
LOCATION:Lemvig Sejlklub\, Vinkelhagevej 10 B\, Lemvig\, 7620.
CATEGORIES:Netværk,Socialt arrangement
END:VEVENT
END:VCALENDAR