BEGIN:VCALENDAR
VERSION:2.0
PRODID:-//Skive Sejlklub - ECPv6.15.17.1//NONSGML v1.0//EN
CALSCALE:GREGORIAN
METHOD:PUBLISH
X-WR-CALNAME:Skive Sejlklub
X-ORIGINAL-URL:https://skivesejlklub.dk
X-WR-CALDESC:Begivenheder for Skive Sejlklub
REFRESH-INTERVAL;VALUE=DURATION:PT1H
X-Robots-Tag:noindex
X-PUBLISHED-TTL:PT1H
BEGIN:VTIMEZONE
TZID:Europe/Copenhagen
BEGIN:DAYLIGHT
TZOFFSETFROM:+0100
TZOFFSETTO:+0200
TZNAME:CEST
DTSTART:20200329T010000
END:DAYLIGHT
BEGIN:STANDARD
TZOFFSETFROM:+0200
TZOFFSETTO:+0100
TZNAME:CET
DTSTART:20201025T010000
END:STANDARD
BEGIN:DAYLIGHT
TZOFFSETFROM:+0100
TZOFFSETTO:+0200
TZNAME:CEST
DTSTART:20210328T010000
END:DAYLIGHT
BEGIN:STANDARD
TZOFFSETFROM:+0200
TZOFFSETTO:+0100
TZNAME:CET
DTSTART:20211031T010000
END:STANDARD
BEGIN:DAYLIGHT
TZOFFSETFROM:+0100
TZOFFSETTO:+0200
TZNAME:CEST
DTSTART:20220327T010000
END:DAYLIGHT
BEGIN:STANDARD
TZOFFSETFROM:+0200
TZOFFSETTO:+0100
TZNAME:CET
DTSTART:20221030T010000
END:STANDARD
BEGIN:DAYLIGHT
TZOFFSETFROM:+0100
TZOFFSETTO:+0200
TZNAME:CEST
DTSTART:20230326T010000
END:DAYLIGHT
BEGIN:STANDARD
TZOFFSETFROM:+0200
TZOFFSETTO:+0100
TZNAME:CET
DTSTART:20231029T010000
END:STANDARD
END:VTIMEZONE
BEGIN:VEVENT
DTSTART;TZID=Europe/Copenhagen:20220402T090000
DTEND;TZID=Europe/Copenhagen:20220402T120000
DTSTAMP:20260419T220535
CREATED:20220301T173847Z
LAST-MODIFIED:20240403T173733Z
UID:10000095-1648890000-1648900800@skivesejlklub.dk
SUMMARY:Arbejdsdag og stander op
DESCRIPTION:Vi starter med Morgenmad og en lille én hvorefter opgaverne fordeles . \n\nOprydning i jollegaragen\nOprydning af udendørsarealer\nOprydning af vinterliggepladsen\nAl affald køres væk\nTerrassen rengøres\nJollebroen efterses\nBaderum rengøres\n\nVi modtager gerne andre forslag.
URL:https://skivesejlklub.dk/event/arbejdsdag/
LOCATION:Skive Sejlklub – Klubhus\, Strandvejen 24\, Skive\, 7800
CATEGORIES:Fælles
END:VEVENT
BEGIN:VEVENT
DTSTART;TZID=Europe/Copenhagen:20220330T190000
DTEND;TZID=Europe/Copenhagen:20220330T213000
DTSTAMP:20260419T220535
CREATED:20220109T101515Z
LAST-MODIFIED:20220124T182046Z
UID:10000102-1648666800-1648675800@skivesejlklub.dk
SUMMARY:Kursus - VHF / SRC kursus
DESCRIPTION:Skive sejlklub udbyder i samarbejde med Hans Peter Kokholm VHF / SRC kursus \nKurset foregår i Skive Sejlklubs lokaler på følgende tider: kl 19 – 21:30 følgende onsdage: 9.\, 16.\, 23. og 30. marts \nEn VHF radio er et af de vigtigste sikkerhedsudstyr ombord\, og kræver derfor et certifikat.! \nMed et VHF-SRC certifikat må du bruge en VHF radio lovligt. Ja hvordan det end lyder\, kræver det et certifikat\, hvis man lovligt skal have en tændt VHF ombord. Ofte blot omtalt som livlinen til land. \nShort Range Certificate er blandt andet nødvendigt for at kunne sejle på mange kanaler og floder i Europa\, da man ikke må sejle der uden VHF Radio ombord. Ligeledes er ”SRC” nødvendigt for at kunne få sit eget kaldesignal. – Yderligere kræves dette flere og flere steder\, hvis man skal leje en båd. \nEn VHF-radio\, hvad enten den er fastmonteret\, med lang antenne\, og lang rækkevidde\, eller det er en opladelig håndholdt model\, er uden sammenligning det vigtigste redskab ombord på et fartøj\, hvis ulykken skulle ske\, og en nødsituation skulle opstå. – Med en VHF-radio har man lynhurtigt ”hjælpen i øret”. \nI mange situationer er hurtig\, og ikke mindst korrekt hjælp forskellen på en ulykke\, og en meget alvorlig ulykke.  – Mange VHF-radioer sender faktisk din eksakte position hvis den er tilkoblet en GPS eller har indbygget GPS og dermed kan redningstjenesten (JRCC) sende hjælpen frem til det helt præcise sted. \n  \nVHF / SRC Kursus \nMed et VHF-certifikat må du bruge en VHF radio lovligt. Du skal ikke købe en VHF-radio for at kommunikere med dine sejlervenner\, kun fordi den giver dig væsentlige fordele rent sikkerhedsmæssigt\, som du ikke kan opnå via en mobiltelefon. \n  \nKursusafgiften er kr. 850\,- men medlemmer af Skive Sejlklub får kr. 100\,- i rabat.\nHertil kommer kr. 480\,- for bøger og øvrigt kursusmateriale.\nEndeligt skal der betales et gebyr for selve prøven\, ca. kr. 500\,- \n  \nTilmelding foregår til Hans Peter Kokholm på mail kokholm49@gmail.com senest 6. februar.\nHusk at oplyse: Navn\, adresse\, fødselsdato (kun dato) og mobil nr. \nFørst til mølle princippet gælder! Men vi skal være mindst 10 deltagere. \nFor at gennemføre on-line eksamen skal du have adgang til PC/Mac og adgang til internettet på en bredbåndsforbindelse.
URL:https://skivesejlklub.dk/event/kursus-vhf-src-kursus/2022-03-30/
LOCATION:Skive Sejlklub – Klubhus\, Strandvejen 24\, Skive\, 7800
CATEGORIES:Kursus
ATTACH;FMTTYPE=image/jpeg:https://skivesejlklub.dk/wp-content/uploads/2022/01/this-apparatus-is-very-useful-for-the-people-used-to-navigate-or-sail-at-sea-even-in-the-coastline-or_t20_wL2zVm.jpg
END:VEVENT
BEGIN:VEVENT
DTSTART;TZID=Europe/Copenhagen:20220324T190000
DTEND;TZID=Europe/Copenhagen:20220324T210000
DTSTAMP:20260419T220535
CREATED:20220117T121810Z
LAST-MODIFIED:20220117T122436Z
UID:10000098-1648148400-1648155600@skivesejlklub.dk
SUMMARY:SAR - Redningsaktion set fra luften
DESCRIPTION:Dialog-baseret foredrag med Thomas Jensen fra Eskadrille 722 som fortæller om hans arbejde som operatør i redningshelikopteren. \nThomas vil\, via dialog\, fortælle om nogle af de oplevelser han har haft igennem sine 12 år som operatør på SAR helikopteren kombineret med tips og tricks til hvordan vi som sejlere sikrer den bedste udgang når uheldet er ude på vandet.
URL:https://skivesejlklub.dk/event/sar-redningsaktion-set-fra-luften/
LOCATION:Skive Sejlklub – Klubhus\, Strandvejen 24\, Skive\, 7800
CATEGORIES:Foredrag
ATTACH;FMTTYPE=image/jpeg:https://skivesejlklub.dk/wp-content/uploads/2022/01/SAR01.jpg
END:VEVENT
BEGIN:VEVENT
DTSTART;TZID=Europe/Copenhagen:20220309T183000
DTEND;TZID=Europe/Copenhagen:20220309T210000
DTSTAMP:20260419T220535
CREATED:20220301T173216Z
LAST-MODIFIED:20220301T173251Z
UID:10000096-1646850600-1646859600@skivesejlklub.dk
SUMMARY:Hjertestarter kursus og sikkerhedsaften
DESCRIPTION:Skive Sejlklub i samarbejde med Hjerteforeningen\, indbyder til hjertestarter og genoplivningskursus i Skive Sejlklub. Dette vil ca. tage 1 time\, herefter vil Dan Cort Jørgensen fra Sejlsikkert fortælle nyt fra denne front\, så sæt aftenen af til sikkerhedsaften.\n\nSejlklubben indbyder alle medlemmer af vandsports klubber i Skive Kommune.\n\nDer kan ved stort fremmøde være opdeling af hjertestarterkursus.
URL:https://skivesejlklub.dk/event/hjertestarter-kursus-og-sikkerhedsaften/
LOCATION:Skive Sejlklub – Klubhus\, Strandvejen 24\, Skive\, 7800
CATEGORIES:Foredrag,Kursus
ATTACH;FMTTYPE=image/jpeg:https://skivesejlklub.dk/wp-content/uploads/2022/03/lady-giving-cpr-to-training-mannequin-using-a-defibrillator_t20_nRL3GA.jpg
END:VEVENT
BEGIN:VEVENT
DTSTART;TZID=Europe/Copenhagen:20220302T190000
DTEND;TZID=Europe/Copenhagen:20220302T210000
DTSTAMP:20260419T220535
CREATED:20201015T051145Z
LAST-MODIFIED:20211122T192948Z
UID:10000085-1646247600-1646254800@skivesejlklub.dk
SUMMARY:Foredrag med Danpilots
DESCRIPTION:Skive sejlklub indbyder i samarbejde med FTLF til en aften med Danpilots.\nVi hører om lodsens arbejde og hvordan tingene ser ud når man står på kommandobroen på et stort skib.
URL:https://skivesejlklub.dk/event/foredrag-med-danpilots/
LOCATION:Skive Sejlklub – Klubhus\, Strandvejen 24\, Skive\, 7800
CATEGORIES:Foredrag
ATTACH;FMTTYPE=image/jpeg:https://skivesejlklub.dk/wp-content/uploads/2020/10/lods-1.jpg
END:VEVENT
BEGIN:VEVENT
DTSTART;TZID=Europe/Copenhagen:20211208T183000
DTEND;TZID=Europe/Copenhagen:20211208T210000
DTSTAMP:20260419T220535
CREATED:20211113T094126Z
LAST-MODIFIED:20211201T131722Z
UID:10000104-1638988200-1638997200@skivesejlklub.dk
SUMMARY:Julebanko - NY DATO
DESCRIPTION:AFLYST GRUNDET VEJR – ny dato 8. december \nÅrets julebanko for hele klubben og hele familien \nKom og vind årets juleand og sig glædelig jul til dine klubkammerater \nDer kan købes gløgg\, æbleskiver og bankoplader \nVel mødt!
URL:https://skivesejlklub.dk/event/julebanko-2/
LOCATION:Skive Sejlklub – Klubhus\, Strandvejen 24\, Skive\, 7800
CATEGORIES:Fælles,Socialt arrangement
END:VEVENT
BEGIN:VEVENT
DTSTART;TZID=Europe/Copenhagen:20211002T090000
DTEND;TZID=Europe/Copenhagen:20211002T180000
DTSTAMP:20260419T220535
CREATED:20200114T100505Z
LAST-MODIFIED:20210927T195023Z
UID:10000061-1633165200-1633197600@skivesejlklub.dk
SUMMARY:Trangmanden Rundt
DESCRIPTION:SEJLLADSBESTEMMELSER\n1 REGLER \n1.1 Der sejles efter ISAF kapsejladsregler 2021 – 2024. \n1.2 Deltagerne sejler efter DH målereglen\, samt SSJ særlige regler. \n2 DELTAGELSE. \n2.1 Stævnet er åbent for kølbåde med målebrev og uden målebrev (familieløb) eller 2-star. \n3 GEBYR: \nStartgebyr kr. 50\,- som dækker moleøl. Der bliver mulighed for fællesspisning efter endt sejlads for kr. 100\,- pr. person. \n4 MÅLEBREV \nInformationer om gyldigt målebrev indhentes på www.websejler.dk \n4.1 Ændring af målebrev efter tilmeldingsfrist accepteres ikke. \n5 SEJLADSBESTEMMELSER \nSejladsbestemmelserne som udleveres på dagen. \nStart linje ud for Moland mellem 2 orange dobbelt flag bøjer\, dommerstade på land. \nX tid vil være GPS tid kl. 10\,00\, der er kun start procedure for første båd\, regel 26. varsel kl. 09.55\, start kl. 10.00. \nVed for tidlig start\, individuel tilbagekaldelse\, ellers tillægges de sekunder\, der startes for tidlig i minutter plus 10 minutter. \n6 STED \n6.1 Stævnet gennemføres ved Skive Sejlklub / Havn. \n6.2 Start og måltagning ud for molen ved Moland. \n7 TIDSPLAN \n7.1 Bureauet åbner kl. 08.00 \n7.2 Skipper møde ca. kl. 09.00 \n7.3 Forventet X tid kl. 10.00\, dvs. startprocedure indledes kl. 09.55\, husk det er forud regnet respit over en dist. 21 sm. \n8 BANE \nStart ud for Moland\, op og ind i Lovns Bredning\, styrbord rundt om Trangmanden\, retur til Skive\, mållinjen ud for Moland\, alle farvands afmærkninger skal respekteres\, på nær sejlrende bøjerne ind til Skive. \nDer kan være andre baner og respittid herom oplyses på skippermødet. \n9 PRÆMIER \nDer er præmier for hver 3. startende. \nPokalen for hurtigste båd\, kan kun vindes af en båd med gyldigt målerbrev. \nSejladsen skydes af senest kl. 16.00\, præmie uddeling hurtigst muligt efter sidste båd i mål. \n10 ANSVARSFRASKRIVNING \nDeltagerne deltager i stævnet fuldstændig på deres egen risiko. \nDen arrangerende myndighed påtager sig ikke noget ansvar for materielskade\, personskade eller dødsfald\, der opstår som følge af eller før\, under eller efter stævnet. \n11 FORSIKRING \nHver deltagende båd skal være omfattet af en gyldig tredjeparts ansvarsforsikring med en minimumsdækning på kr. \n10.000.000\,- eller tilsvarende i anden valuta. \n12 FORPLEJNING \nDer er mole øl efter sejladsen. Dette er indeholdt i startpengene. \nHerefter stander nedhaling med efterfølgende fællesspisning. \nSkive Sejlklub \nKapsejlads udvalg \n\n\n\n  \n\n\n\nTilmeld følgende kapsejlads\n\nKapsejlads(er): Trangmanden Rundt - Efterår '25\n \nOplysninger om din båd\n\nMålerbrev/cert. nr. (find på websejler.dk)\n \n\n \nBådtype (skal udfyldes)\n \n\n \nBådens navn (skal udfyldes)\n \n\n \nSejl nr. (skal udfyldes)\n \n\n \nSejlklub\n \n\n \nOplys venligst navn på dine gaster / kommentarer\n \n\n \nLøb: Almindelig2-StarUden målerbrev\n \nKontaktoplysninger\n\nNavn (skal udfyldes)\n \n\n \nAdresse\n \n\n \nPostnummer & By\n \n\n \nTelefonnummer (skal udfyldes)\n \n\n \nMobilnummer\n \n\n \nDin e-mail (skal udfyldes)\n \n\n \nTilmelding til spisning\n\nØnsker i at deltage i spisning efter endt sejlads til kun kr. 185\,- pr. person\nBetaling for spisning på mobilepay nr. 37057 - husk navn og antal personer\n \nAntal personer: 01234567\n \nTilmelding senest torsdag d. 1. maj 2025. For tilmeldinger senere kan du sende en forespørgsel på mail til Niels Sohn - nielssohn@c.dk\n \nKontrolspørgsmål (antispam)\n \nHvad er 9+1=?
URL:https://skivesejlklub.dk/event/trangmanden-rundt/
LOCATION:Skive Fjord
CATEGORIES:Kapsejlads,Socialt arrangement
END:VEVENT
BEGIN:VEVENT
DTSTART;TZID=Europe/Copenhagen:20210929T173000
DTEND;TZID=Europe/Copenhagen:20210929T210000
DTSTAMP:20260419T220535
CREATED:20210804T062813Z
LAST-MODIFIED:20210804T062813Z
UID:10000139-1632936600-1632949200@skivesejlklub.dk
SUMMARY:Onsdagssejlads / Kapsejlads
DESCRIPTION:Kalder alle sejlere fra Skive Sejlklub og Skive Søsports Havn \nOnsdagssejlads for både kap- og tursejlere. \nVi mødes i sejlklubben kl. 17:30 til Skippermøde og har start på vandet kl. 18:30. \nKom og vær med til nogle hyggelige timer på fjorden!
URL:https://skivesejlklub.dk/event/onsdagssejlads-kapsejlads-4/2021-09-29/
LOCATION:Skive Sejlklub – Klubhus\, Strandvejen 24\, Skive\, 7800
CATEGORIES:Kapsejlads
END:VEVENT
BEGIN:VEVENT
DTSTART;TZID=Europe/Copenhagen:20210831T190000
DTEND;TZID=Europe/Copenhagen:20210831T210000
DTSTAMP:20260419T220535
CREATED:20210804T061929Z
LAST-MODIFIED:20210804T061929Z
UID:10000021-1630436400-1630443600@skivesejlklub.dk
SUMMARY:Generalforsamling (udskudt generalforsamling)
DESCRIPTION:Dagsorden til udskudt generalforsamling i Skive Sejlklub tirsdag d. 31/8 2021 kl 1900 i klubbens lokaler. \n\nValg af dirigent.\nBestyrelsens beretning for det forløbne år.\nForelæggelse af regnskab for det forløbne år til godkendelse\, samt budget for det kommende år.. Behandling af eventuelt indkomne forslag.\nBestyrelsen har undersøgt mulighed/pris for at få yderligere regnskabsassistance til kassereren. Det foreslås at den beslutning går videre til den nye bestyrelse\, som afklarer behovet.\n– Derudover arbejder bestyrelsen på at fremsætte et forslag til ændring af regnskabsårets og generalforsamlingens placering\, fra at følge kalenderåret og fra forår til efterår\, så en ny bestyrelse har en vintersæson til at få sat sig ind i sagerne og få noget sat i gang.\nFastsættelse af kontingent og pladsleje. Bestyrelsen foreslår uændret niveau.\nValg af bestyrelsesmedlemmer (Claus Bjerre modtager genvalg\, Ole Moth og Martin Breum genopstiller ikke).\nValg af suppleanter til bestyrelsen.\nValg af 2 revisorer og 1 revisorsuppleant.\nValg til faste udvalg.\nEventuelt.
URL:https://skivesejlklub.dk/event/generalforsamling-udskudt-generalforsamling/
LOCATION:Skive Sejlklub – Klubhus\, Strandvejen 24\, Skive\, 7800
CATEGORIES:Fælles
END:VEVENT
BEGIN:VEVENT
DTSTART;TZID=Europe/Copenhagen:20210630T173000
DTEND;TZID=Europe/Copenhagen:20210630T210000
DTSTAMP:20260419T220535
CREATED:20210310T193619Z
LAST-MODIFIED:20210410T071121Z
UID:10000013-1625074200-1625086800@skivesejlklub.dk
SUMMARY:Onsdagssejlads / Kapsejlads
DESCRIPTION:Kalder alle sejlere fra Skive Sejlklub og Skive Søsports Havn \nOnsdagssejlads for både kap- og tursejlere. \nVi mødes i sejlklubben kl. 17:30 til Skippermøde og har start på vandet kl. 18:30. \nKom og vær med til nogle hyggelige timer på fjorden!
URL:https://skivesejlklub.dk/event/onsdagssejlads-kapsejlads-3/2021-06-30/
LOCATION:Skive Sejlklub – Klubhus\, Strandvejen 24\, Skive\, 7800
CATEGORIES:Kapsejlads,Onsdagssejlads
ATTACH;FMTTYPE=image/jpeg:https://skivesejlklub.dk/wp-content/uploads/2021/03/Onsdagssejlads2020.jpg
END:VEVENT
BEGIN:VEVENT
DTSTART;TZID=Europe/Copenhagen:20210619T080000
DTEND;TZID=Europe/Copenhagen:20210620T170000
DTSTAMP:20260419T220535
CREATED:20210310T194009Z
LAST-MODIFIED:20210517T150733Z
UID:10000015-1624089600-1624208400@skivesejlklub.dk
SUMMARY:DM for Wayfarer Skive
DESCRIPTION:Skive Sejlklub og Maritim Center Skive glæder sig til at afholde DM for Wayfarer i dagene fra den 18. – 20. juni 2021. \nWayfarer-jollen er en 16 fods engelsk-konstrueret sejljolle\, også kaldt den Den klassiske sejljolle\, eller sejljollen for hele familien.\nJollen har mange anvendelsesmuligheder\, som f.eks. hyggesejlads\, tur og langtur og kapsejlads. \nDen første jolle kom til Skandinavien omkring 1963. Wayfarer jollen er en 2 mands jolle der sejles af både mand og kvinder\, vi ser frem til at der kommer ca. 40 både så der bliver noget at se på nede på fjorden. \nBanen bliver lidt nord for Skive søsportshavn så der mulighed for at se de mange sejlere fra land. \nSe mere i invitationen her \nTilmelding
URL:https://skivesejlklub.dk/event/dm-for-wayfarer-skive/
LOCATION:Skive Fjord
CATEGORIES:Kapsejlads,Stævne
ATTACH;FMTTYPE=image/jpeg:https://skivesejlklub.dk/wp-content/uploads/2021/04/Wayfarer-scaled.jpg
END:VEVENT
BEGIN:VEVENT
DTSTART;TZID=Europe/Copenhagen:20210417T080000
DTEND;TZID=Europe/Copenhagen:20210418T170000
DTSTAMP:20260419T220535
CREATED:20210310T191349Z
LAST-MODIFIED:20210310T191349Z
UID:10000002-1618646400-1618765200@skivesejlklub.dk
SUMMARY:Ranglistestævne 1 i Zoom8
DESCRIPTION:
URL:https://skivesejlklub.dk/event/ranglistestaevne-1-i-zoom8/
LOCATION:Skive Sejlklub – Klubhus\, Strandvejen 24\, Skive\, 7800
CATEGORIES:Stævne
END:VEVENT
BEGIN:VEVENT
DTSTART;TZID=Europe/Copenhagen:20210324T190000
DTEND;TZID=Europe/Copenhagen:20210324T210000
DTSTAMP:20260419T220535
CREATED:20210310T191855Z
LAST-MODIFIED:20210310T191855Z
UID:10000004-1616612400-1616619600@skivesejlklub.dk
SUMMARY:Generalforsamling
DESCRIPTION:Dagsorden​ ​til​ ​generalforsamling​ ​i​ ​Skive​ ​Sejlklub​ ​d.​ ​24/3 ​2021 kl 1900 i klubbens lokaler​ (med​ ​forbehold​ ​for​ ​ændring)​. \n1. Valg af dirigent.\n2. Bestyrelsens beretning for det forløbne år. \n3. Forelæggelse af regnskab for det forløbne år til godkendelse\, samt budget for det kommende år. \n4. Behandling af eventuelt indkomne forslag.\n– Bestyrelsen har undersøgt mulighed/pris for at få yderligere regnskabsassistance til \nkassereren. Det foreslås at den beslutning går videre til den nye bestyrelse\, som afklarer behovet. \n5. Fastsættelse af kontingent og pladsleje. Bestyrelsen foreslår uændret niveau. \n6. Valg af bestyrelsesmedlemmer (Claus Bjerre modtager genvalg\, Ole Moth og Martin Breum genopstiller ikke). \n7. Valg af suppleanter til bestyrelsen.\n8. Valg af 2 revisorer og 1 revisorsuppleant. 9. Valg til faste udvalg.\n10. Eventuelt.
URL:https://skivesejlklub.dk/event/generalforsamling-2/
LOCATION:Skive Sejlklub – Klubhus\, Strandvejen 24\, Skive\, 7800
CATEGORIES:Fælles
END:VEVENT
END:VCALENDAR