BEGIN:VCALENDAR
VERSION:2.0
PRODID:-//Skive Sejlklub - ECPv6.15.17.1//NONSGML v1.0//EN
CALSCALE:GREGORIAN
METHOD:PUBLISH
X-ORIGINAL-URL:https://skivesejlklub.dk
X-WR-CALDESC:Begivenheder for Skive Sejlklub
REFRESH-INTERVAL;VALUE=DURATION:PT1H
X-Robots-Tag:noindex
X-PUBLISHED-TTL:PT1H
BEGIN:VTIMEZONE
TZID:Europe/Copenhagen
BEGIN:DAYLIGHT
TZOFFSETFROM:+0100
TZOFFSETTO:+0200
TZNAME:CEST
DTSTART:20210328T010000
END:DAYLIGHT
BEGIN:STANDARD
TZOFFSETFROM:+0200
TZOFFSETTO:+0100
TZNAME:CET
DTSTART:20211031T010000
END:STANDARD
BEGIN:DAYLIGHT
TZOFFSETFROM:+0100
TZOFFSETTO:+0200
TZNAME:CEST
DTSTART:20220327T010000
END:DAYLIGHT
BEGIN:STANDARD
TZOFFSETFROM:+0200
TZOFFSETTO:+0100
TZNAME:CET
DTSTART:20221030T010000
END:STANDARD
BEGIN:DAYLIGHT
TZOFFSETFROM:+0100
TZOFFSETTO:+0200
TZNAME:CEST
DTSTART:20230326T010000
END:DAYLIGHT
BEGIN:STANDARD
TZOFFSETFROM:+0200
TZOFFSETTO:+0100
TZNAME:CET
DTSTART:20231029T010000
END:STANDARD
END:VTIMEZONE
BEGIN:VEVENT
DTSTART;TZID=Europe/Copenhagen:20221105T100000
DTEND;TZID=Europe/Copenhagen:20221105T170000
DTSTAMP:20260422T224928
CREATED:20221013T101216Z
LAST-MODIFIED:20221013T101216Z
UID:10000186-1667642400-1667667600@skivesejlklub.dk
SUMMARY:Møde i træskibssammenslutningen
DESCRIPTION:Træskibssammenslutningen afholder møde i Skive Sejlklubs lokaler.
URL:https://skivesejlklub.dk/event/moede-i-traeskibssammenslutningen/
LOCATION:Skive Sejlklub – Klubhus\, Strandvejen 24\, Skive\, 7800
CATEGORIES:Eksternt arrangement
END:VEVENT
END:VCALENDAR