BEGIN:VCALENDAR
VERSION:2.0
PRODID:-//Skive Sejlklub - ECPv6.15.17.1//NONSGML v1.0//EN
CALSCALE:GREGORIAN
METHOD:PUBLISH
X-ORIGINAL-URL:https://skivesejlklub.dk
X-WR-CALDESC:Begivenheder for Skive Sejlklub
REFRESH-INTERVAL;VALUE=DURATION:PT1H
X-Robots-Tag:noindex
X-PUBLISHED-TTL:PT1H
BEGIN:VTIMEZONE
TZID:Europe/Copenhagen
BEGIN:DAYLIGHT
TZOFFSETFROM:+0100
TZOFFSETTO:+0200
TZNAME:CEST
DTSTART:20240331T010000
END:DAYLIGHT
BEGIN:STANDARD
TZOFFSETFROM:+0200
TZOFFSETTO:+0100
TZNAME:CET
DTSTART:20241027T010000
END:STANDARD
BEGIN:DAYLIGHT
TZOFFSETFROM:+0100
TZOFFSETTO:+0200
TZNAME:CEST
DTSTART:20250330T010000
END:DAYLIGHT
BEGIN:STANDARD
TZOFFSETFROM:+0200
TZOFFSETTO:+0100
TZNAME:CET
DTSTART:20251026T010000
END:STANDARD
BEGIN:DAYLIGHT
TZOFFSETFROM:+0100
TZOFFSETTO:+0200
TZNAME:CEST
DTSTART:20260329T010000
END:DAYLIGHT
BEGIN:STANDARD
TZOFFSETFROM:+0200
TZOFFSETTO:+0100
TZNAME:CET
DTSTART:20261025T010000
END:STANDARD
END:VTIMEZONE
BEGIN:VEVENT
DTSTART;TZID=Europe/Copenhagen:20250906T080000
DTEND;TZID=Europe/Copenhagen:20250906T170000
DTSTAMP:20260419T162102
CREATED:20250316T164917Z
LAST-MODIFIED:20250316T164917Z
UID:10000371-1757145600-1757178000@skivesejlklub.dk
SUMMARY:Hovedkapsejlads Aalborg
DESCRIPTION:https://limfjordens-sejlsport.dk/kalender/hovedkapsejlads/
URL:https://skivesejlklub.dk/event/hovedkapsejlads-aalborg/
LOCATION:Aalborg Sejlklub\, Skydebanevej 40\, Aalborg\, 9000\, Denmark
CATEGORIES:Kapsejlads
END:VEVENT
END:VCALENDAR