BEGIN:VCALENDAR
VERSION:2.0
PRODID:-//Skive Sejlklub - ECPv6.15.17.1//NONSGML v1.0//EN
CALSCALE:GREGORIAN
METHOD:PUBLISH
X-ORIGINAL-URL:https://skivesejlklub.dk
X-WR-CALDESC:Begivenheder for Skive Sejlklub
REFRESH-INTERVAL;VALUE=DURATION:PT1H
X-Robots-Tag:noindex
X-PUBLISHED-TTL:PT1H
BEGIN:VTIMEZONE
TZID:Europe/Copenhagen
BEGIN:DAYLIGHT
TZOFFSETFROM:+0100
TZOFFSETTO:+0200
TZNAME:CEST
DTSTART:20210328T010000
END:DAYLIGHT
BEGIN:STANDARD
TZOFFSETFROM:+0200
TZOFFSETTO:+0100
TZNAME:CET
DTSTART:20211031T010000
END:STANDARD
BEGIN:DAYLIGHT
TZOFFSETFROM:+0100
TZOFFSETTO:+0200
TZNAME:CEST
DTSTART:20220327T010000
END:DAYLIGHT
BEGIN:STANDARD
TZOFFSETFROM:+0200
TZOFFSETTO:+0100
TZNAME:CET
DTSTART:20221030T010000
END:STANDARD
BEGIN:DAYLIGHT
TZOFFSETFROM:+0100
TZOFFSETTO:+0200
TZNAME:CEST
DTSTART:20230326T010000
END:DAYLIGHT
BEGIN:STANDARD
TZOFFSETFROM:+0200
TZOFFSETTO:+0100
TZNAME:CET
DTSTART:20231029T010000
END:STANDARD
BEGIN:DAYLIGHT
TZOFFSETFROM:+0100
TZOFFSETTO:+0200
TZNAME:CEST
DTSTART:20240331T010000
END:DAYLIGHT
BEGIN:STANDARD
TZOFFSETFROM:+0200
TZOFFSETTO:+0100
TZNAME:CET
DTSTART:20241027T010000
END:STANDARD
BEGIN:DAYLIGHT
TZOFFSETFROM:+0100
TZOFFSETTO:+0200
TZNAME:CEST
DTSTART:20250330T010000
END:DAYLIGHT
BEGIN:STANDARD
TZOFFSETFROM:+0200
TZOFFSETTO:+0100
TZNAME:CET
DTSTART:20251026T010000
END:STANDARD
BEGIN:DAYLIGHT
TZOFFSETFROM:+0100
TZOFFSETTO:+0200
TZNAME:CEST
DTSTART:20260329T010000
END:DAYLIGHT
BEGIN:STANDARD
TZOFFSETFROM:+0200
TZOFFSETTO:+0100
TZNAME:CET
DTSTART:20261025T010000
END:STANDARD
END:VTIMEZONE
BEGIN:VEVENT
DTSTART;VALUE=DATE:20250614
DTEND;VALUE=DATE:20250615
DTSTAMP:20260420T054203
CREATED:20250316T163008Z
LAST-MODIFIED:20250316T163008Z
UID:10000368-1749859200-1749945599@skivesejlklub.dk
SUMMARY:Mors Cup 2025
DESCRIPTION:https://limfjordens-sejlsport.dk/kalender/mors-cup-2025/
URL:https://skivesejlklub.dk/event/mors-cup-2025/
LOCATION:Mors Rundt
END:VEVENT
BEGIN:VEVENT
DTSTART;TZID=Europe/Copenhagen:20240608T080000
DTEND;TZID=Europe/Copenhagen:20240608T170000
DTSTAMP:20260420T054203
CREATED:20240403T174223Z
LAST-MODIFIED:20240403T174223Z
UID:10000268-1717833600-1717866000@skivesejlklub.dk
SUMMARY:Mors cup 2024 - 70 Års Jubilæums udgave
DESCRIPTION:Mors Cup afvikles lørdag den 8. juni 2024\nDet er en af landets ældste og smukkeste distancesejladser i beskyttet\, men krævende sejladsområde. Der er sejlet Mors Rundt\, som det hed tidligere\, allerede tilbage i 1954\, hvilket betyder at vi i år har 70års jubilæum. \nSe mere på https://thisted-sejlklub.dk/mors-cup-2023/
URL:https://skivesejlklub.dk/event/mors-cup-2024-70-aars-jubilaeums-udgave/
LOCATION:Mors Rundt
CATEGORIES:Eksternt arrangement,Kapsejlads,Socialt arrangement
END:VEVENT
BEGIN:VEVENT
DTSTART;TZID=Europe/Copenhagen:20220611T080000
DTEND;TZID=Europe/Copenhagen:20220611T233000
DTSTAMP:20260420T054203
CREATED:20220301T182753Z
LAST-MODIFIED:20220301T182753Z
UID:10000155-1654934400-1654990200@skivesejlklub.dk
SUMMARY:Mors Cup
DESCRIPTION:Thisted Sejlklub indbyder hvert år til den traditionsrige distancesejlads »Mors Cup«\, der altid afvikles den anden weekend i juni. \nDet er en af landets ældste og smukkeste distancesejladser i beskyttet\, men krævende sejladsområde. \nDer er sejlet Mors Rundt allerede tilbage i 1957. Det er vi selvfølgelige både stolte og ydmyg overfor\, men også bevidste om\, at Mors Cup hele tiden skal udvikles. \nVi fik mange positive tilbagemeldinger på sejladsen i 2019\, men selvfølgelig var der også opfordringer på ting\, som vi kan gøre bedre. Vi håber 2022 udgaven vil blive taget vel imod. I år bliver der mulighed for “single-” og/eller “double-handed” sejlads. \nTILMELDING\nTilmelding: Der åbnes for tilmelding 01. maj 2022. Sidste frist for tilmelding er søndag d. 05. juni 2022.\nTilmelding er mulig via Limfjordskredsens hjemmeside: Tilmelding Limfjordskredsen \nTilmeldingen er kun gældende når betaling via MobilPay er sket\, jf. nærmere ifm. tilmeldingen. \nPris: \nPrisen for deltagelse er kr. 300 pr. båd og kr. 200 pr. sejler (fx. båd med 3 sejlere kr. 900). Beløbet dækker startgebyr\, en T-shirt til hver sejler\, morgenmand\, madpakke og aftensmad lørdag samt morgenmad søndag.
URL:https://skivesejlklub.dk/event/mors-cup/
LOCATION:Mors Rundt
CATEGORIES:Eksternt arrangement,Kapsejlads
END:VEVENT
END:VCALENDAR