BEGIN:VCALENDAR
VERSION:2.0
PRODID:-//Skive Sejlklub - ECPv6.15.17.1//NONSGML v1.0//EN
CALSCALE:GREGORIAN
METHOD:PUBLISH
X-ORIGINAL-URL:https://skivesejlklub.dk
X-WR-CALDESC:Begivenheder for Skive Sejlklub
REFRESH-INTERVAL;VALUE=DURATION:PT1H
X-Robots-Tag:noindex
X-PUBLISHED-TTL:PT1H
BEGIN:VTIMEZONE
TZID:Europe/Copenhagen
BEGIN:DAYLIGHT
TZOFFSETFROM:+0100
TZOFFSETTO:+0200
TZNAME:CEST
DTSTART:20190331T010000
END:DAYLIGHT
BEGIN:STANDARD
TZOFFSETFROM:+0200
TZOFFSETTO:+0100
TZNAME:CET
DTSTART:20191027T010000
END:STANDARD
BEGIN:DAYLIGHT
TZOFFSETFROM:+0100
TZOFFSETTO:+0200
TZNAME:CEST
DTSTART:20200329T010000
END:DAYLIGHT
BEGIN:STANDARD
TZOFFSETFROM:+0200
TZOFFSETTO:+0100
TZNAME:CET
DTSTART:20201025T010000
END:STANDARD
BEGIN:DAYLIGHT
TZOFFSETFROM:+0100
TZOFFSETTO:+0200
TZNAME:CEST
DTSTART:20210328T010000
END:DAYLIGHT
BEGIN:STANDARD
TZOFFSETFROM:+0200
TZOFFSETTO:+0100
TZNAME:CET
DTSTART:20211031T010000
END:STANDARD
END:VTIMEZONE
BEGIN:VEVENT
DTSTART;TZID=Europe/Copenhagen:20200116T190000
DTEND;TZID=Europe/Copenhagen:20200116T210000
DTSTAMP:20260421T181448
CREATED:20200114T094940Z
LAST-MODIFIED:20200114T094940Z
UID:10000059-1579201200-1579208400@skivesejlklub.dk
SUMMARY:Ekstraordinær generalforsamling Søsportshavnen
DESCRIPTION:
URL:https://skivesejlklub.dk/event/ekstraordinaer-generalforsamling-soesportshavnen/
LOCATION:Skive Sejlklub – Klubhus\, Strandvejen 24\, Skive\, 7800
CATEGORIES:Socialt arrangement
END:VEVENT
END:VCALENDAR