BEGIN:VCALENDAR
VERSION:2.0
PRODID:-//Skive Sejlklub - ECPv6.15.17.1//NONSGML v1.0//EN
CALSCALE:GREGORIAN
METHOD:PUBLISH
X-WR-CALNAME:Skive Sejlklub
X-ORIGINAL-URL:https://skivesejlklub.dk
X-WR-CALDESC:Begivenheder for Skive Sejlklub
REFRESH-INTERVAL;VALUE=DURATION:PT1H
X-Robots-Tag:noindex
X-PUBLISHED-TTL:PT1H
BEGIN:VTIMEZONE
TZID:Europe/Copenhagen
BEGIN:DAYLIGHT
TZOFFSETFROM:+0100
TZOFFSETTO:+0200
TZNAME:CEST
DTSTART:20190331T010000
END:DAYLIGHT
BEGIN:STANDARD
TZOFFSETFROM:+0200
TZOFFSETTO:+0100
TZNAME:CET
DTSTART:20191027T010000
END:STANDARD
BEGIN:DAYLIGHT
TZOFFSETFROM:+0100
TZOFFSETTO:+0200
TZNAME:CEST
DTSTART:20200329T010000
END:DAYLIGHT
BEGIN:STANDARD
TZOFFSETFROM:+0200
TZOFFSETTO:+0100
TZNAME:CET
DTSTART:20201025T010000
END:STANDARD
BEGIN:DAYLIGHT
TZOFFSETFROM:+0100
TZOFFSETTO:+0200
TZNAME:CEST
DTSTART:20210328T010000
END:DAYLIGHT
BEGIN:STANDARD
TZOFFSETFROM:+0200
TZOFFSETTO:+0100
TZNAME:CET
DTSTART:20211031T010000
END:STANDARD
BEGIN:DAYLIGHT
TZOFFSETFROM:+0100
TZOFFSETTO:+0200
TZNAME:CEST
DTSTART:20220327T010000
END:DAYLIGHT
BEGIN:STANDARD
TZOFFSETFROM:+0200
TZOFFSETTO:+0100
TZNAME:CET
DTSTART:20221030T010000
END:STANDARD
BEGIN:DAYLIGHT
TZOFFSETFROM:+0100
TZOFFSETTO:+0200
TZNAME:CEST
DTSTART:20230326T010000
END:DAYLIGHT
BEGIN:STANDARD
TZOFFSETFROM:+0200
TZOFFSETTO:+0100
TZNAME:CET
DTSTART:20231029T010000
END:STANDARD
END:VTIMEZONE
BEGIN:VEVENT
DTSTART;TZID=Europe/Copenhagen:20220430T080000
DTEND;TZID=Europe/Copenhagen:20220430T210000
DTSTAMP:20260419T163830
CREATED:20220301T175052Z
LAST-MODIFIED:20220301T175052Z
UID:10000094-1651305600-1651352400@skivesejlklub.dk
SUMMARY:Stander op og Trangmanden rundt
DESCRIPTION:Vi starter med morgen mad kl. 7.00 \nStander op kl. 08:00 \nTrangmanden start kl. 10.00 \nSkive Sejlklub vil lave fælles spisning kl. 18.30
URL:https://skivesejlklub.dk/event/stander-op-og-trangmanden-rundt/
LOCATION:Skive Sejlklub – Klubhus\, Strandvejen 24\, Skive\, 7800
CATEGORIES:Fælles,Kapsejlads,Socialt arrangement
ATTACH;FMTTYPE=image/jpeg:https://skivesejlklub.dk/wp-content/uploads/2019/06/Skive25Maj.jpg
END:VEVENT
BEGIN:VEVENT
DTSTART;TZID=Europe/Copenhagen:20220402T090000
DTEND;TZID=Europe/Copenhagen:20220402T120000
DTSTAMP:20260419T163830
CREATED:20220301T173847Z
LAST-MODIFIED:20240403T173733Z
UID:10000095-1648890000-1648900800@skivesejlklub.dk
SUMMARY:Arbejdsdag og stander op
DESCRIPTION:Vi starter med Morgenmad og en lille én hvorefter opgaverne fordeles . \n\nOprydning i jollegaragen\nOprydning af udendørsarealer\nOprydning af vinterliggepladsen\nAl affald køres væk\nTerrassen rengøres\nJollebroen efterses\nBaderum rengøres\n\nVi modtager gerne andre forslag.
URL:https://skivesejlklub.dk/event/arbejdsdag/
LOCATION:Skive Sejlklub – Klubhus\, Strandvejen 24\, Skive\, 7800
CATEGORIES:Fælles
END:VEVENT
BEGIN:VEVENT
DTSTART;TZID=Europe/Copenhagen:20220330T190000
DTEND;TZID=Europe/Copenhagen:20220330T213000
DTSTAMP:20260419T163830
CREATED:20220109T101515Z
LAST-MODIFIED:20220124T182046Z
UID:10000102-1648666800-1648675800@skivesejlklub.dk
SUMMARY:Kursus - VHF / SRC kursus
DESCRIPTION:Skive sejlklub udbyder i samarbejde med Hans Peter Kokholm VHF / SRC kursus \nKurset foregår i Skive Sejlklubs lokaler på følgende tider: kl 19 – 21:30 følgende onsdage: 9.\, 16.\, 23. og 30. marts \nEn VHF radio er et af de vigtigste sikkerhedsudstyr ombord\, og kræver derfor et certifikat.! \nMed et VHF-SRC certifikat må du bruge en VHF radio lovligt. Ja hvordan det end lyder\, kræver det et certifikat\, hvis man lovligt skal have en tændt VHF ombord. Ofte blot omtalt som livlinen til land. \nShort Range Certificate er blandt andet nødvendigt for at kunne sejle på mange kanaler og floder i Europa\, da man ikke må sejle der uden VHF Radio ombord. Ligeledes er ”SRC” nødvendigt for at kunne få sit eget kaldesignal. – Yderligere kræves dette flere og flere steder\, hvis man skal leje en båd. \nEn VHF-radio\, hvad enten den er fastmonteret\, med lang antenne\, og lang rækkevidde\, eller det er en opladelig håndholdt model\, er uden sammenligning det vigtigste redskab ombord på et fartøj\, hvis ulykken skulle ske\, og en nødsituation skulle opstå. – Med en VHF-radio har man lynhurtigt ”hjælpen i øret”. \nI mange situationer er hurtig\, og ikke mindst korrekt hjælp forskellen på en ulykke\, og en meget alvorlig ulykke.  – Mange VHF-radioer sender faktisk din eksakte position hvis den er tilkoblet en GPS eller har indbygget GPS og dermed kan redningstjenesten (JRCC) sende hjælpen frem til det helt præcise sted. \n  \nVHF / SRC Kursus \nMed et VHF-certifikat må du bruge en VHF radio lovligt. Du skal ikke købe en VHF-radio for at kommunikere med dine sejlervenner\, kun fordi den giver dig væsentlige fordele rent sikkerhedsmæssigt\, som du ikke kan opnå via en mobiltelefon. \n  \nKursusafgiften er kr. 850\,- men medlemmer af Skive Sejlklub får kr. 100\,- i rabat.\nHertil kommer kr. 480\,- for bøger og øvrigt kursusmateriale.\nEndeligt skal der betales et gebyr for selve prøven\, ca. kr. 500\,- \n  \nTilmelding foregår til Hans Peter Kokholm på mail kokholm49@gmail.com senest 6. februar.\nHusk at oplyse: Navn\, adresse\, fødselsdato (kun dato) og mobil nr. \nFørst til mølle princippet gælder! Men vi skal være mindst 10 deltagere. \nFor at gennemføre on-line eksamen skal du have adgang til PC/Mac og adgang til internettet på en bredbåndsforbindelse.
URL:https://skivesejlklub.dk/event/kursus-vhf-src-kursus/2022-03-30/
LOCATION:Skive Sejlklub – Klubhus\, Strandvejen 24\, Skive\, 7800
CATEGORIES:Kursus
ATTACH;FMTTYPE=image/jpeg:https://skivesejlklub.dk/wp-content/uploads/2022/01/this-apparatus-is-very-useful-for-the-people-used-to-navigate-or-sail-at-sea-even-in-the-coastline-or_t20_wL2zVm.jpg
END:VEVENT
BEGIN:VEVENT
DTSTART;TZID=Europe/Copenhagen:20220324T190000
DTEND;TZID=Europe/Copenhagen:20220324T210000
DTSTAMP:20260419T163830
CREATED:20220117T121810Z
LAST-MODIFIED:20220117T122436Z
UID:10000098-1648148400-1648155600@skivesejlklub.dk
SUMMARY:SAR - Redningsaktion set fra luften
DESCRIPTION:Dialog-baseret foredrag med Thomas Jensen fra Eskadrille 722 som fortæller om hans arbejde som operatør i redningshelikopteren. \nThomas vil\, via dialog\, fortælle om nogle af de oplevelser han har haft igennem sine 12 år som operatør på SAR helikopteren kombineret med tips og tricks til hvordan vi som sejlere sikrer den bedste udgang når uheldet er ude på vandet.
URL:https://skivesejlklub.dk/event/sar-redningsaktion-set-fra-luften/
LOCATION:Skive Sejlklub – Klubhus\, Strandvejen 24\, Skive\, 7800
CATEGORIES:Foredrag
ATTACH;FMTTYPE=image/jpeg:https://skivesejlklub.dk/wp-content/uploads/2022/01/SAR01.jpg
END:VEVENT
BEGIN:VEVENT
DTSTART;TZID=Europe/Copenhagen:20220324T183000
DTEND;TZID=Europe/Copenhagen:20220324T211500
DTSTAMP:20260419T163830
CREATED:20210902T071345Z
LAST-MODIFIED:20210902T071345Z
UID:10000116-1648146600-1648156500@skivesejlklub.dk
SUMMARY:Kursus - Duelighedsbevis
DESCRIPTION:Midtjysk Sejlerskole afholder kursus til Duelighedsbevis / Navigation Inkl. teoretisk og praktisk prøve\nEn navigatorisk uddannelse\, der giver ret til at føre skibe op til 15 meter. Duelighedsbevis giver også ret til at føre speedbåd. \nSe mere på midtsejl.dk/duelighedskursus/ \n 
URL:https://skivesejlklub.dk/event/kursus-duelighedsbevis-2/2022-03-24/
LOCATION:Skive Sejlklub – Klubhus\, Strandvejen 24\, Skive\, 7800
CATEGORIES:Kursus
ATTACH;FMTTYPE=image/jpeg:https://skivesejlklub.dk/wp-content/uploads/2021/09/midsejllogo.jpg
ORGANIZER;CN="Midtjysk Sejlerskole":MAILTO:carsten@midtsejl.dk
END:VEVENT
BEGIN:VEVENT
DTSTART;TZID=Europe/Copenhagen:20220309T183000
DTEND;TZID=Europe/Copenhagen:20220309T210000
DTSTAMP:20260419T163830
CREATED:20220301T173216Z
LAST-MODIFIED:20220301T173251Z
UID:10000096-1646850600-1646859600@skivesejlklub.dk
SUMMARY:Hjertestarter kursus og sikkerhedsaften
DESCRIPTION:Skive Sejlklub i samarbejde med Hjerteforeningen\, indbyder til hjertestarter og genoplivningskursus i Skive Sejlklub. Dette vil ca. tage 1 time\, herefter vil Dan Cort Jørgensen fra Sejlsikkert fortælle nyt fra denne front\, så sæt aftenen af til sikkerhedsaften.\n\nSejlklubben indbyder alle medlemmer af vandsports klubber i Skive Kommune.\n\nDer kan ved stort fremmøde være opdeling af hjertestarterkursus.
URL:https://skivesejlklub.dk/event/hjertestarter-kursus-og-sikkerhedsaften/
LOCATION:Skive Sejlklub – Klubhus\, Strandvejen 24\, Skive\, 7800
CATEGORIES:Foredrag,Kursus
ATTACH;FMTTYPE=image/jpeg:https://skivesejlklub.dk/wp-content/uploads/2022/03/lady-giving-cpr-to-training-mannequin-using-a-defibrillator_t20_nRL3GA.jpg
END:VEVENT
BEGIN:VEVENT
DTSTART;TZID=Europe/Copenhagen:20220302T190000
DTEND;TZID=Europe/Copenhagen:20220302T210000
DTSTAMP:20260419T163830
CREATED:20201015T051145Z
LAST-MODIFIED:20211122T192948Z
UID:10000085-1646247600-1646254800@skivesejlklub.dk
SUMMARY:Foredrag med Danpilots
DESCRIPTION:Skive sejlklub indbyder i samarbejde med FTLF til en aften med Danpilots.\nVi hører om lodsens arbejde og hvordan tingene ser ud når man står på kommandobroen på et stort skib.
URL:https://skivesejlklub.dk/event/foredrag-med-danpilots/
LOCATION:Skive Sejlklub – Klubhus\, Strandvejen 24\, Skive\, 7800
CATEGORIES:Foredrag
ATTACH;FMTTYPE=image/jpeg:https://skivesejlklub.dk/wp-content/uploads/2020/10/lods-1.jpg
END:VEVENT
BEGIN:VEVENT
DTSTART;TZID=Europe/Copenhagen:20211209T183000
DTEND;TZID=Europe/Copenhagen:20211209T213000
DTSTAMP:20260419T163830
CREATED:20210810T102705Z
LAST-MODIFIED:20211113T093832Z
UID:10000131-1639074600-1639085400@skivesejlklub.dk
SUMMARY:Kursus - Duelighedsbevis
DESCRIPTION:AOF Skive\, Hans Peter Kokholm afholder kursus til  Duelighedsbevis / Navigation\nInkl. teoretisk og praktisk prøve\nEn navigatorisk uddannelse\, der giver ret til at føre skibe op til 15 meter. Duelighedsbevis giver også ret til at føre speed-båd. \nSe mere på https://skive.aof.dk/kurser/Friluftsliv/Sejlads_Navigation/4850933/ \n 
URL:https://skivesejlklub.dk/event/kursus-duelighedsbevis/2021-12-09/
LOCATION:Skive Sejlklub – Klubhus\, Strandvejen 24\, Skive\, 7800
CATEGORIES:Kursus
END:VEVENT
BEGIN:VEVENT
DTSTART;TZID=Europe/Copenhagen:20211208T183000
DTEND;TZID=Europe/Copenhagen:20211208T210000
DTSTAMP:20260419T163830
CREATED:20211113T094126Z
LAST-MODIFIED:20211201T131722Z
UID:10000104-1638988200-1638997200@skivesejlklub.dk
SUMMARY:Julebanko - NY DATO
DESCRIPTION:AFLYST GRUNDET VEJR – ny dato 8. december \nÅrets julebanko for hele klubben og hele familien \nKom og vind årets juleand og sig glædelig jul til dine klubkammerater \nDer kan købes gløgg\, æbleskiver og bankoplader \nVel mødt!
URL:https://skivesejlklub.dk/event/julebanko-2/
LOCATION:Skive Sejlklub – Klubhus\, Strandvejen 24\, Skive\, 7800
CATEGORIES:Fælles,Socialt arrangement
END:VEVENT
BEGIN:VEVENT
DTSTART;TZID=Europe/Copenhagen:20211125T190000
DTEND;TZID=Europe/Copenhagen:20211125T210000
DTSTAMP:20260419T163830
CREATED:20211119T074804Z
LAST-MODIFIED:20211119T074947Z
UID:10000103-1637866800-1637874000@skivesejlklub.dk
SUMMARY:Generalforsamling - Bådelauget af 1967
DESCRIPTION:
URL:https://skivesejlklub.dk/event/generalforsamling-baadelauget-af-1967-2/
LOCATION:Skive Sejlklub – Klubhus\, Strandvejen 24\, Skive\, 7800
CATEGORIES:Eksternt arrangement
END:VEVENT
BEGIN:VEVENT
DTSTART;TZID=Europe/Copenhagen:20210929T173000
DTEND;TZID=Europe/Copenhagen:20210929T210000
DTSTAMP:20260419T163830
CREATED:20210804T062813Z
LAST-MODIFIED:20210804T062813Z
UID:10000139-1632936600-1632949200@skivesejlklub.dk
SUMMARY:Onsdagssejlads / Kapsejlads
DESCRIPTION:Kalder alle sejlere fra Skive Sejlklub og Skive Søsports Havn \nOnsdagssejlads for både kap- og tursejlere. \nVi mødes i sejlklubben kl. 17:30 til Skippermøde og har start på vandet kl. 18:30. \nKom og vær med til nogle hyggelige timer på fjorden!
URL:https://skivesejlklub.dk/event/onsdagssejlads-kapsejlads-4/2021-09-29/
LOCATION:Skive Sejlklub – Klubhus\, Strandvejen 24\, Skive\, 7800
CATEGORIES:Kapsejlads
END:VEVENT
BEGIN:VEVENT
DTSTART;TZID=Europe/Copenhagen:20210925T100000
DTEND;TZID=Europe/Copenhagen:20210925T120000
DTSTAMP:20260419T163830
CREATED:20210816T070310Z
LAST-MODIFIED:20210816T070310Z
UID:10000117-1632564000-1632571200@skivesejlklub.dk
SUMMARY:Velkomst for kommende Officerer - Skive Kommune
DESCRIPTION:Klubhuset er udlånt til Skive Kommune ifm. velkomst for kommende officerer på Skive Kaserne
URL:https://skivesejlklub.dk/event/velkomst-for-kommende-officerer-skive-kommune/
LOCATION:Skive Sejlklub – Klubhus\, Strandvejen 24\, Skive\, 7800
CATEGORIES:Eksternt arrangement
END:VEVENT
BEGIN:VEVENT
DTSTART;TZID=Europe/Copenhagen:20210918T080000
DTEND;TZID=Europe/Copenhagen:20210919T170000
DTSTAMP:20260419T163830
CREATED:20210310T191228Z
LAST-MODIFIED:20210310T191228Z
UID:10000063-1631952000-1632070800@skivesejlklub.dk
SUMMARY:Windsurfing træningssamling
DESCRIPTION:
URL:https://skivesejlklub.dk/event/windsurfing-traeningssamling-3/
LOCATION:Skive Sejlklub – Klubhus\, Strandvejen 24\, Skive\, 7800
CATEGORIES:Kursus
END:VEVENT
BEGIN:VEVENT
DTSTART;TZID=Europe/Copenhagen:20210903T080000
DTEND;TZID=Europe/Copenhagen:20210905T170000
DTSTAMP:20260419T163830
CREATED:20210310T191638Z
LAST-MODIFIED:20210310T191638Z
UID:10000001-1630656000-1630861200@skivesejlklub.dk
SUMMARY:Skive Festival
DESCRIPTION:
URL:https://skivesejlklub.dk/event/skive-festival/
LOCATION:Skive Sejlklub – Klubhus\, Strandvejen 24\, Skive\, 7800
CATEGORIES:Socialt arrangement
END:VEVENT
BEGIN:VEVENT
DTSTART;TZID=Europe/Copenhagen:20210831T190000
DTEND;TZID=Europe/Copenhagen:20210831T210000
DTSTAMP:20260419T163830
CREATED:20210804T061929Z
LAST-MODIFIED:20210804T061929Z
UID:10000021-1630436400-1630443600@skivesejlklub.dk
SUMMARY:Generalforsamling (udskudt generalforsamling)
DESCRIPTION:Dagsorden til udskudt generalforsamling i Skive Sejlklub tirsdag d. 31/8 2021 kl 1900 i klubbens lokaler. \n\nValg af dirigent.\nBestyrelsens beretning for det forløbne år.\nForelæggelse af regnskab for det forløbne år til godkendelse\, samt budget for det kommende år.. Behandling af eventuelt indkomne forslag.\nBestyrelsen har undersøgt mulighed/pris for at få yderligere regnskabsassistance til kassereren. Det foreslås at den beslutning går videre til den nye bestyrelse\, som afklarer behovet.\n– Derudover arbejder bestyrelsen på at fremsætte et forslag til ændring af regnskabsårets og generalforsamlingens placering\, fra at følge kalenderåret og fra forår til efterår\, så en ny bestyrelse har en vintersæson til at få sat sig ind i sagerne og få noget sat i gang.\nFastsættelse af kontingent og pladsleje. Bestyrelsen foreslår uændret niveau.\nValg af bestyrelsesmedlemmer (Claus Bjerre modtager genvalg\, Ole Moth og Martin Breum genopstiller ikke).\nValg af suppleanter til bestyrelsen.\nValg af 2 revisorer og 1 revisorsuppleant.\nValg til faste udvalg.\nEventuelt.
URL:https://skivesejlklub.dk/event/generalforsamling-udskudt-generalforsamling/
LOCATION:Skive Sejlklub – Klubhus\, Strandvejen 24\, Skive\, 7800
CATEGORIES:Fælles
END:VEVENT
BEGIN:VEVENT
DTSTART;TZID=Europe/Copenhagen:20210710T080000
DTEND;TZID=Europe/Copenhagen:20210711T170000
DTSTAMP:20260419T163830
CREATED:20210310T191159Z
LAST-MODIFIED:20210310T191159Z
UID:10000064-1625904000-1626022800@skivesejlklub.dk
SUMMARY:Windsurfing træningssamling
DESCRIPTION:
URL:https://skivesejlklub.dk/event/windsurfing-traeningssamling-2/
LOCATION:Skive Sejlklub – Klubhus\, Strandvejen 24\, Skive\, 7800
CATEGORIES:Kursus
END:VEVENT
BEGIN:VEVENT
DTSTART;TZID=Europe/Copenhagen:20210703T080000
DTEND;TZID=Europe/Copenhagen:20210704T170000
DTSTAMP:20260419T163830
CREATED:20210310T191119Z
LAST-MODIFIED:20210310T191119Z
UID:10000065-1625299200-1625418000@skivesejlklub.dk
SUMMARY:Windsurfing træningssamling
DESCRIPTION:
URL:https://skivesejlklub.dk/event/windsurfing-traeningssamling/
LOCATION:Skive Sejlklub – Klubhus\, Strandvejen 24\, Skive\, 7800
CATEGORIES:Kursus
END:VEVENT
BEGIN:VEVENT
DTSTART;TZID=Europe/Copenhagen:20210630T173000
DTEND;TZID=Europe/Copenhagen:20210630T210000
DTSTAMP:20260419T163830
CREATED:20210310T193619Z
LAST-MODIFIED:20210410T071121Z
UID:10000013-1625074200-1625086800@skivesejlklub.dk
SUMMARY:Onsdagssejlads / Kapsejlads
DESCRIPTION:Kalder alle sejlere fra Skive Sejlklub og Skive Søsports Havn \nOnsdagssejlads for både kap- og tursejlere. \nVi mødes i sejlklubben kl. 17:30 til Skippermøde og har start på vandet kl. 18:30. \nKom og vær med til nogle hyggelige timer på fjorden!
URL:https://skivesejlklub.dk/event/onsdagssejlads-kapsejlads-3/2021-06-30/
LOCATION:Skive Sejlklub – Klubhus\, Strandvejen 24\, Skive\, 7800
CATEGORIES:Kapsejlads,Onsdagssejlads
ATTACH;FMTTYPE=image/jpeg:https://skivesejlklub.dk/wp-content/uploads/2021/03/Onsdagssejlads2020.jpg
END:VEVENT
BEGIN:VEVENT
DTSTART;TZID=Europe/Copenhagen:20210612T080000
DTEND;TZID=Europe/Copenhagen:20210613T170000
DTSTAMP:20260419T163830
CREATED:20210408T215240Z
LAST-MODIFIED:20210408T215240Z
UID:10000016-1623484800-1623603600@skivesejlklub.dk
SUMMARY:Windsurfing træningssamling
DESCRIPTION:
URL:https://skivesejlklub.dk/event/windsurfing-traeningssamling-4/
LOCATION:Skive Sejlklub – Klubhus\, Strandvejen 24\, Skive\, 7800
CATEGORIES:Kursus
END:VEVENT
BEGIN:VEVENT
DTSTART;TZID=Europe/Copenhagen:20210417T080000
DTEND;TZID=Europe/Copenhagen:20210418T170000
DTSTAMP:20260419T163830
CREATED:20210310T191349Z
LAST-MODIFIED:20210310T191349Z
UID:10000002-1618646400-1618765200@skivesejlklub.dk
SUMMARY:Ranglistestævne 1 i Zoom8
DESCRIPTION:
URL:https://skivesejlklub.dk/event/ranglistestaevne-1-i-zoom8/
LOCATION:Skive Sejlklub – Klubhus\, Strandvejen 24\, Skive\, 7800
CATEGORIES:Stævne
END:VEVENT
BEGIN:VEVENT
DTSTART;TZID=Europe/Copenhagen:20210410T100000
DTEND;TZID=Europe/Copenhagen:20210410T103000
DTSTAMP:20260419T163830
CREATED:20210408T215517Z
LAST-MODIFIED:20210408T215517Z
UID:10000017-1618048800-1618050600@skivesejlklub.dk
SUMMARY:Standerhejsning
DESCRIPTION:Lørdag kl. 10.00 sættes standeren på plænen foran jollegaragerne. \nDer er øl til de fremmødte. \nHusk at overholde Corona regler vedr. forsamlingsforbud.
URL:https://skivesejlklub.dk/event/standerhejsning/
LOCATION:Skive Sejlklub – Klubhus\, Strandvejen 24\, Skive\, 7800
CATEGORIES:Fælles,Socialt arrangement
ATTACH;FMTTYPE=image/jpeg:https://skivesejlklub.dk/wp-content/uploads/2019/03/Skive-Sejlklub-001.jpg
END:VEVENT
BEGIN:VEVENT
DTSTART;TZID=Europe/Copenhagen:20210324T190000
DTEND;TZID=Europe/Copenhagen:20210324T210000
DTSTAMP:20260419T163830
CREATED:20210310T191855Z
LAST-MODIFIED:20210310T191855Z
UID:10000004-1616612400-1616619600@skivesejlklub.dk
SUMMARY:Generalforsamling
DESCRIPTION:Dagsorden​ ​til​ ​generalforsamling​ ​i​ ​Skive​ ​Sejlklub​ ​d.​ ​24/3 ​2021 kl 1900 i klubbens lokaler​ (med​ ​forbehold​ ​for​ ​ændring)​. \n1. Valg af dirigent.\n2. Bestyrelsens beretning for det forløbne år. \n3. Forelæggelse af regnskab for det forløbne år til godkendelse\, samt budget for det kommende år. \n4. Behandling af eventuelt indkomne forslag.\n– Bestyrelsen har undersøgt mulighed/pris for at få yderligere regnskabsassistance til \nkassereren. Det foreslås at den beslutning går videre til den nye bestyrelse\, som afklarer behovet. \n5. Fastsættelse af kontingent og pladsleje. Bestyrelsen foreslår uændret niveau. \n6. Valg af bestyrelsesmedlemmer (Claus Bjerre modtager genvalg\, Ole Moth og Martin Breum genopstiller ikke). \n7. Valg af suppleanter til bestyrelsen.\n8. Valg af 2 revisorer og 1 revisorsuppleant. 9. Valg til faste udvalg.\n10. Eventuelt.
URL:https://skivesejlklub.dk/event/generalforsamling-2/
LOCATION:Skive Sejlklub – Klubhus\, Strandvejen 24\, Skive\, 7800
CATEGORIES:Fælles
END:VEVENT
BEGIN:VEVENT
DTSTART;TZID=Europe/Copenhagen:20210225T183000
DTEND;TZID=Europe/Copenhagen:20210225T211500
DTSTAMP:20260419T163830
CREATED:20201006T131837Z
LAST-MODIFIED:20201204T084440Z
UID:10000084-1614277800-1614287700@skivesejlklub.dk
SUMMARY:Duelighedskursus
DESCRIPTION:AOF Skive\, Hans Peter Kokholm afholder kursus til  Duelighedsbevis / Navigation\nInkl. teoretisk og praktisk prøve\nEn navigatorisk uddannelse\, der giver ret til at føre skibe op til 15 meter. Duelighedsbevis giver også ret til at føre speed-båd. \nSe mere på https://skive.aof.dk/kurser/Friluftsliv/Sejlads_Navigation/4850933/ \n 
URL:https://skivesejlklub.dk/event/duelighedskursus-2020-10-22/2021-02-25/
LOCATION:Skive Sejlklub – Klubhus\, Strandvejen 24\, Skive\, 7800
CATEGORIES:Kursus
END:VEVENT
BEGIN:VEVENT
DTSTART;TZID=Europe/Copenhagen:20201108T100000
DTEND;TZID=Europe/Copenhagen:20201108T120000
DTSTAMP:20260419T163830
CREATED:20201019T102102Z
LAST-MODIFIED:20201019T102102Z
UID:10000086-1604829600-1604836800@skivesejlklub.dk
SUMMARY:Generalforsamling Bådelauget af 1967
DESCRIPTION:
URL:https://skivesejlklub.dk/event/generalforsamling-baadelauget-af-1967/
LOCATION:Skive Sejlklub – Klubhus\, Strandvejen 24\, Skive\, 7800
CATEGORIES:Socialt arrangement
END:VEVENT
BEGIN:VEVENT
DTSTART;TZID=Europe/Copenhagen:20201008T190000
DTEND;TZID=Europe/Copenhagen:20201008T210000
DTSTAMP:20260419T163830
CREATED:20200825T170424Z
LAST-MODIFIED:20200825T170424Z
UID:10000091-1602183600-1602190800@skivesejlklub.dk
SUMMARY:Duelighedskursus - sidste del
DESCRIPTION:
URL:https://skivesejlklub.dk/event/duelighedskursus-sidste-del/2020-10-08/
LOCATION:Skive Sejlklub – Klubhus\, Strandvejen 24\, Skive\, 7800
END:VEVENT
BEGIN:VEVENT
DTSTART;TZID=Europe/Copenhagen:20200930T173000
DTEND;TZID=Europe/Copenhagen:20200930T210000
DTSTAMP:20260419T163830
CREATED:20200913T201548Z
LAST-MODIFIED:20200913T201548Z
UID:10000025-1601487000-1601499600@skivesejlklub.dk
SUMMARY:Onsdagssejlads / Kapsejlads
DESCRIPTION:Kalder alle sejlere fra Skive Sejlklub og Skive Søsports Havn \nOnsdagssejlads for både kap- og tursejlere. \nVi mødes i sejlklubben kl. 17:30 til Skippermøde og har start på vandet kl. 18:30. \nKom og vær med til nogle hyggelige timer på fjorden!
URL:https://skivesejlklub.dk/event/onsdagssejlads-kapsejlads-2/2020-09-30/
LOCATION:Skive Sejlklub – Klubhus\, Strandvejen 24\, Skive\, 7800
CATEGORIES:Onsdagssejlads
END:VEVENT
BEGIN:VEVENT
DTSTART;TZID=Europe/Copenhagen:20200915T183000
DTEND;TZID=Europe/Copenhagen:20200915T210000
DTSTAMP:20260419T163830
CREATED:20200915T035527Z
LAST-MODIFIED:20200915T035527Z
UID:10000028-1600194600-1600203600@skivesejlklub.dk
SUMMARY:Julebanko 2 december kl. 18.30
DESCRIPTION:Årets julebanko bliver 2 December kl. 18.30 i klubhuset \nVel mødt \n 
URL:https://skivesejlklub.dk/event/julebanko-2-december-kl-18-30/
LOCATION:Skive Sejlklub – Klubhus\, Strandvejen 24\, Skive\, 7800
CATEGORIES:Socialt arrangement
END:VEVENT
BEGIN:VEVENT
DTSTART;TZID=Europe/Copenhagen:20200812T190000
DTEND;TZID=Europe/Copenhagen:20200812T210000
DTSTAMP:20260419T163830
CREATED:20200806T134821Z
LAST-MODIFIED:20200806T134821Z
UID:10000003-1597258800-1597266000@skivesejlklub.dk
SUMMARY:Opstarts møde om onsdags sejlads
DESCRIPTION:Onsdag d. 12. august kl. 19:00 er der opstarts møde om onsdags sejladser for 2. halvår. \nVi mødes og tager en snak om hvad vi gerne vil og får et overblik over hvor mange vi er\, så vi kan få nogle gode sejladser resten af året  \nKlubben byder på en øl eller vand.\nVi mødes i sejlklubbens lokaler\nAlle er velkommen
URL:https://skivesejlklub.dk/event/opstarts-moede-om-onsdags-sejlads/
LOCATION:Skive Sejlklub – Klubhus\, Strandvejen 24\, Skive\, 7800
CATEGORIES:Onsdagssejlads
ATTACH;FMTTYPE=image/jpeg:https://skivesejlklub.dk/wp-content/uploads/2019/09/Onsdagssejlads-2019-05-22-008.jpg
END:VEVENT
BEGIN:VEVENT
DTSTART;TZID=Europe/Copenhagen:20200701T173000
DTEND;TZID=Europe/Copenhagen:20200701T210000
DTSTAMP:20260419T163830
CREATED:20200615T124205Z
LAST-MODIFIED:20200615T124205Z
UID:10000037-1593624600-1593637200@skivesejlklub.dk
SUMMARY:Onsdagssejlads / Kapsejlads
DESCRIPTION:Kalder alle sejlere fra Skive Sejlklub og Skive Søsports Havn\nNu er vi der hvor vi kan starte op på vores onsdagssejladser igen. \nOnsdagssejlads for både kap- og tursejlere. \nVi mødes i sejlklubben kl. 17:30 til Skippermøde og har start på vandet kl. 18:30. \nKom og vær med til nogle hyggelige timer på fjorden!
URL:https://skivesejlklub.dk/event/onsdagssejlads-kapsejlads/2020-07-01/
LOCATION:Skive Sejlklub – Klubhus\, Strandvejen 24\, Skive\, 7800
CATEGORIES:Onsdagssejlads
END:VEVENT
BEGIN:VEVENT
DTSTART;TZID=Europe/Copenhagen:20200604T160000
DTEND;TZID=Europe/Copenhagen:20200606T233000
DTSTAMP:20260419T163830
CREATED:20200114T094626Z
LAST-MODIFIED:20200419T125023Z
UID:10000092-1591286400-1591486200@skivesejlklub.dk
SUMMARY:Aflyst - Skive festival - hjælp til boder
DESCRIPTION:Frivillige til at stå i bod med pølser\, pomfritter eller ølvogn
URL:https://skivesejlklub.dk/event/skive-festival-hjaelp-til-boder/
LOCATION:Skive Sejlklub – Klubhus\, Strandvejen 24\, Skive\, 7800
CATEGORIES:Socialt arrangement
END:VEVENT
END:VCALENDAR