BEGIN:VCALENDAR
VERSION:2.0
PRODID:-//Skive Sejlklub - ECPv6.15.17.1//NONSGML v1.0//EN
CALSCALE:GREGORIAN
METHOD:PUBLISH
X-ORIGINAL-URL:https://skivesejlklub.dk
X-WR-CALDESC:Begivenheder for Skive Sejlklub
REFRESH-INTERVAL;VALUE=DURATION:PT1H
X-Robots-Tag:noindex
X-PUBLISHED-TTL:PT1H
BEGIN:VTIMEZONE
TZID:Europe/Copenhagen
BEGIN:DAYLIGHT
TZOFFSETFROM:+0100
TZOFFSETTO:+0200
TZNAME:CEST
DTSTART:20190331T010000
END:DAYLIGHT
BEGIN:STANDARD
TZOFFSETFROM:+0200
TZOFFSETTO:+0100
TZNAME:CET
DTSTART:20191027T010000
END:STANDARD
BEGIN:DAYLIGHT
TZOFFSETFROM:+0100
TZOFFSETTO:+0200
TZNAME:CEST
DTSTART:20200329T010000
END:DAYLIGHT
BEGIN:STANDARD
TZOFFSETFROM:+0200
TZOFFSETTO:+0100
TZNAME:CET
DTSTART:20201025T010000
END:STANDARD
BEGIN:DAYLIGHT
TZOFFSETFROM:+0100
TZOFFSETTO:+0200
TZNAME:CEST
DTSTART:20210328T010000
END:DAYLIGHT
BEGIN:STANDARD
TZOFFSETFROM:+0200
TZOFFSETTO:+0100
TZNAME:CET
DTSTART:20211031T010000
END:STANDARD
BEGIN:DAYLIGHT
TZOFFSETFROM:+0100
TZOFFSETTO:+0200
TZNAME:CEST
DTSTART:20220327T010000
END:DAYLIGHT
BEGIN:STANDARD
TZOFFSETFROM:+0200
TZOFFSETTO:+0100
TZNAME:CET
DTSTART:20221030T010000
END:STANDARD
END:VTIMEZONE
BEGIN:VEVENT
DTSTART;TZID=Europe/Copenhagen:20210410T100000
DTEND;TZID=Europe/Copenhagen:20210410T103000
DTSTAMP:20260421T134516
CREATED:20210408T215517Z
LAST-MODIFIED:20210408T215517Z
UID:10000017-1618048800-1618050600@skivesejlklub.dk
SUMMARY:Standerhejsning
DESCRIPTION:Lørdag kl. 10.00 sættes standeren på plænen foran jollegaragerne. \nDer er øl til de fremmødte. \nHusk at overholde Corona regler vedr. forsamlingsforbud.
URL:https://skivesejlklub.dk/event/standerhejsning/
LOCATION:Skive Sejlklub – Klubhus\, Strandvejen 24\, Skive\, 7800
CATEGORIES:Fælles,Socialt arrangement
ATTACH;FMTTYPE=image/jpeg:https://skivesejlklub.dk/wp-content/uploads/2019/03/Skive-Sejlklub-001.jpg
END:VEVENT
BEGIN:VEVENT
DTSTART;TZID=Europe/Copenhagen:20210324T190000
DTEND;TZID=Europe/Copenhagen:20210324T210000
DTSTAMP:20260421T134516
CREATED:20210310T191855Z
LAST-MODIFIED:20210310T191855Z
UID:10000004-1616612400-1616619600@skivesejlklub.dk
SUMMARY:Generalforsamling
DESCRIPTION:Dagsorden​ ​til​ ​generalforsamling​ ​i​ ​Skive​ ​Sejlklub​ ​d.​ ​24/3 ​2021 kl 1900 i klubbens lokaler​ (med​ ​forbehold​ ​for​ ​ændring)​. \n1. Valg af dirigent.\n2. Bestyrelsens beretning for det forløbne år. \n3. Forelæggelse af regnskab for det forløbne år til godkendelse\, samt budget for det kommende år. \n4. Behandling af eventuelt indkomne forslag.\n– Bestyrelsen har undersøgt mulighed/pris for at få yderligere regnskabsassistance til \nkassereren. Det foreslås at den beslutning går videre til den nye bestyrelse\, som afklarer behovet. \n5. Fastsættelse af kontingent og pladsleje. Bestyrelsen foreslår uændret niveau. \n6. Valg af bestyrelsesmedlemmer (Claus Bjerre modtager genvalg\, Ole Moth og Martin Breum genopstiller ikke). \n7. Valg af suppleanter til bestyrelsen.\n8. Valg af 2 revisorer og 1 revisorsuppleant. 9. Valg til faste udvalg.\n10. Eventuelt.
URL:https://skivesejlklub.dk/event/generalforsamling-2/
LOCATION:Skive Sejlklub – Klubhus\, Strandvejen 24\, Skive\, 7800
CATEGORIES:Fælles
END:VEVENT
BEGIN:VEVENT
DTSTART;TZID=Europe/Copenhagen:20210225T183000
DTEND;TZID=Europe/Copenhagen:20210225T211500
DTSTAMP:20260421T134516
CREATED:20201006T131837Z
LAST-MODIFIED:20201204T084440Z
UID:10000084-1614277800-1614287700@skivesejlklub.dk
SUMMARY:Duelighedskursus
DESCRIPTION:AOF Skive\, Hans Peter Kokholm afholder kursus til  Duelighedsbevis / Navigation\nInkl. teoretisk og praktisk prøve\nEn navigatorisk uddannelse\, der giver ret til at føre skibe op til 15 meter. Duelighedsbevis giver også ret til at føre speed-båd. \nSe mere på https://skive.aof.dk/kurser/Friluftsliv/Sejlads_Navigation/4850933/ \n 
URL:https://skivesejlklub.dk/event/duelighedskursus-2020-10-22/2021-02-25/
LOCATION:Skive Sejlklub – Klubhus\, Strandvejen 24\, Skive\, 7800
CATEGORIES:Kursus
END:VEVENT
BEGIN:VEVENT
DTSTART;TZID=Europe/Copenhagen:20201108T100000
DTEND;TZID=Europe/Copenhagen:20201108T120000
DTSTAMP:20260421T134516
CREATED:20201019T102102Z
LAST-MODIFIED:20201019T102102Z
UID:10000086-1604829600-1604836800@skivesejlklub.dk
SUMMARY:Generalforsamling Bådelauget af 1967
DESCRIPTION:
URL:https://skivesejlklub.dk/event/generalforsamling-baadelauget-af-1967/
LOCATION:Skive Sejlklub – Klubhus\, Strandvejen 24\, Skive\, 7800
CATEGORIES:Socialt arrangement
END:VEVENT
BEGIN:VEVENT
DTSTART;TZID=Europe/Copenhagen:20201008T190000
DTEND;TZID=Europe/Copenhagen:20201008T210000
DTSTAMP:20260421T134516
CREATED:20200825T170424Z
LAST-MODIFIED:20200825T170424Z
UID:10000091-1602183600-1602190800@skivesejlklub.dk
SUMMARY:Duelighedskursus - sidste del
DESCRIPTION:
URL:https://skivesejlklub.dk/event/duelighedskursus-sidste-del/2020-10-08/
LOCATION:Skive Sejlklub – Klubhus\, Strandvejen 24\, Skive\, 7800
END:VEVENT
BEGIN:VEVENT
DTSTART;TZID=Europe/Copenhagen:20200930T173000
DTEND;TZID=Europe/Copenhagen:20200930T210000
DTSTAMP:20260421T134516
CREATED:20200913T201548Z
LAST-MODIFIED:20200913T201548Z
UID:10000025-1601487000-1601499600@skivesejlklub.dk
SUMMARY:Onsdagssejlads / Kapsejlads
DESCRIPTION:Kalder alle sejlere fra Skive Sejlklub og Skive Søsports Havn \nOnsdagssejlads for både kap- og tursejlere. \nVi mødes i sejlklubben kl. 17:30 til Skippermøde og har start på vandet kl. 18:30. \nKom og vær med til nogle hyggelige timer på fjorden!
URL:https://skivesejlklub.dk/event/onsdagssejlads-kapsejlads-2/2020-09-30/
LOCATION:Skive Sejlklub – Klubhus\, Strandvejen 24\, Skive\, 7800
CATEGORIES:Onsdagssejlads
END:VEVENT
BEGIN:VEVENT
DTSTART;TZID=Europe/Copenhagen:20200915T183000
DTEND;TZID=Europe/Copenhagen:20200915T210000
DTSTAMP:20260421T134516
CREATED:20200915T035527Z
LAST-MODIFIED:20200915T035527Z
UID:10000028-1600194600-1600203600@skivesejlklub.dk
SUMMARY:Julebanko 2 december kl. 18.30
DESCRIPTION:Årets julebanko bliver 2 December kl. 18.30 i klubhuset \nVel mødt \n 
URL:https://skivesejlklub.dk/event/julebanko-2-december-kl-18-30/
LOCATION:Skive Sejlklub – Klubhus\, Strandvejen 24\, Skive\, 7800
CATEGORIES:Socialt arrangement
END:VEVENT
BEGIN:VEVENT
DTSTART;TZID=Europe/Copenhagen:20200812T190000
DTEND;TZID=Europe/Copenhagen:20200812T210000
DTSTAMP:20260421T134516
CREATED:20200806T134821Z
LAST-MODIFIED:20200806T134821Z
UID:10000003-1597258800-1597266000@skivesejlklub.dk
SUMMARY:Opstarts møde om onsdags sejlads
DESCRIPTION:Onsdag d. 12. august kl. 19:00 er der opstarts møde om onsdags sejladser for 2. halvår. \nVi mødes og tager en snak om hvad vi gerne vil og får et overblik over hvor mange vi er\, så vi kan få nogle gode sejladser resten af året  \nKlubben byder på en øl eller vand.\nVi mødes i sejlklubbens lokaler\nAlle er velkommen
URL:https://skivesejlklub.dk/event/opstarts-moede-om-onsdags-sejlads/
LOCATION:Skive Sejlklub – Klubhus\, Strandvejen 24\, Skive\, 7800
CATEGORIES:Onsdagssejlads
ATTACH;FMTTYPE=image/jpeg:https://skivesejlklub.dk/wp-content/uploads/2019/09/Onsdagssejlads-2019-05-22-008.jpg
END:VEVENT
BEGIN:VEVENT
DTSTART;TZID=Europe/Copenhagen:20200701T173000
DTEND;TZID=Europe/Copenhagen:20200701T210000
DTSTAMP:20260421T134516
CREATED:20200615T124205Z
LAST-MODIFIED:20200615T124205Z
UID:10000037-1593624600-1593637200@skivesejlklub.dk
SUMMARY:Onsdagssejlads / Kapsejlads
DESCRIPTION:Kalder alle sejlere fra Skive Sejlklub og Skive Søsports Havn\nNu er vi der hvor vi kan starte op på vores onsdagssejladser igen. \nOnsdagssejlads for både kap- og tursejlere. \nVi mødes i sejlklubben kl. 17:30 til Skippermøde og har start på vandet kl. 18:30. \nKom og vær med til nogle hyggelige timer på fjorden!
URL:https://skivesejlklub.dk/event/onsdagssejlads-kapsejlads/2020-07-01/
LOCATION:Skive Sejlklub – Klubhus\, Strandvejen 24\, Skive\, 7800
CATEGORIES:Onsdagssejlads
END:VEVENT
BEGIN:VEVENT
DTSTART;TZID=Europe/Copenhagen:20200604T160000
DTEND;TZID=Europe/Copenhagen:20200606T233000
DTSTAMP:20260421T134516
CREATED:20200114T094626Z
LAST-MODIFIED:20200419T125023Z
UID:10000092-1591286400-1591486200@skivesejlklub.dk
SUMMARY:Aflyst - Skive festival - hjælp til boder
DESCRIPTION:Frivillige til at stå i bod med pølser\, pomfritter eller ølvogn
URL:https://skivesejlklub.dk/event/skive-festival-hjaelp-til-boder/
LOCATION:Skive Sejlklub – Klubhus\, Strandvejen 24\, Skive\, 7800
CATEGORIES:Socialt arrangement
END:VEVENT
BEGIN:VEVENT
DTSTART;TZID=Europe/Copenhagen:20200506T170000
DTEND;TZID=Europe/Copenhagen:20200506T210000
DTSTAMP:20260421T134516
CREATED:20200114T094806Z
LAST-MODIFIED:20200114T094806Z
UID:10000062-1588784400-1588798800@skivesejlklub.dk
SUMMARY:Prøvesejllads - Kapsejllads
DESCRIPTION:Første sejllads i sæsonen. Efterfulgt af en række onsdage.
URL:https://skivesejlklub.dk/event/proevesejllads-kapsejllads/
LOCATION:Skive Sejlklub – Klubhus\, Strandvejen 24\, Skive\, 7800
CATEGORIES:Onsdagssejlads
END:VEVENT
BEGIN:VEVENT
DTSTART;TZID=Europe/Copenhagen:20200502T080000
DTEND;TZID=Europe/Copenhagen:20200503T160000
DTSTAMP:20260421T134516
CREATED:20200114T094457Z
LAST-MODIFIED:20200419T125124Z
UID:10000033-1588406400-1588521600@skivesejlklub.dk
SUMMARY:Aflyst - Grand Prix Stævne - Ungdom
DESCRIPTION:Første Grand Prix stævne i ungdom starter i Skive med opstart lørdag morgen til søndag eftermiddag
URL:https://skivesejlklub.dk/event/grand-prix-staevne-ungdom/
LOCATION:Skive Sejlklub – Klubhus\, Strandvejen 24\, Skive\, 7800
CATEGORIES:Stævne
END:VEVENT
BEGIN:VEVENT
DTSTART;TZID=Europe/Copenhagen:20200425T083000
DTEND;TZID=Europe/Copenhagen:20200425T140000
DTSTAMP:20260421T134516
CREATED:20200114T094349Z
LAST-MODIFIED:20200419T125055Z
UID:10000032-1587803400-1587823200@skivesejlklub.dk
SUMMARY:Udskudt - Stander Op/arbejdsdag i Sejlklubben
DESCRIPTION:Der vil være indvendige og udvendige aktiviteter så kom frisk og giv en hånd med\, \nDer er morgenmad og kaffe fra kl. 8.30 \n.Tilmelding foregår på Facebook \n 
URL:https://skivesejlklub.dk/event/arbejdsdag-i-sejlklubben/
LOCATION:Skive Sejlklub – Klubhus\, Strandvejen 24\, Skive\, 7800
CATEGORIES:Fælles
END:VEVENT
BEGIN:VEVENT
DTSTART;TZID=Europe/Copenhagen:20200422T190000
DTEND;TZID=Europe/Copenhagen:20200422T210000
DTSTAMP:20260421T134516
CREATED:20200321T094315Z
LAST-MODIFIED:20200321T094315Z
UID:10000038-1587582000-1587589200@skivesejlklub.dk
SUMMARY:Udskudt ordinær generalforsamling
DESCRIPTION:
URL:https://skivesejlklub.dk/event/udskudt-ordinaer-generalforsamling/
LOCATION:Skive Sejlklub – Klubhus\, Strandvejen 24\, Skive\, 7800
CATEGORIES:Fælles
END:VEVENT
BEGIN:VEVENT
DTSTART;TZID=Europe/Copenhagen:20200414T190000
DTEND;TZID=Europe/Copenhagen:20200414T210000
DTSTAMP:20260421T134516
CREATED:20200303T142757Z
LAST-MODIFIED:20200318T135109Z
UID:10000046-1586890800-1586898000@skivesejlklub.dk
SUMMARY:AFLYST - Generalforsamling Limfjordskredsen
DESCRIPTION:
URL:https://skivesejlklub.dk/event/samling-limfjordskredsen/
LOCATION:Skive Sejlklub – Klubhus\, Strandvejen 24\, Skive\, 7800
CATEGORIES:Fælles
END:VEVENT
BEGIN:VEVENT
DTSTART;TZID=Europe/Copenhagen:20200330T190000
DTEND;TZID=Europe/Copenhagen:20200330T210000
DTSTAMP:20260421T134516
CREATED:20200306T105322Z
LAST-MODIFIED:20200318T135047Z
UID:10000047-1585594800-1585602000@skivesejlklub.dk
SUMMARY:AFLYST - Generalforsamling MCS
DESCRIPTION:
URL:https://skivesejlklub.dk/event/generalforsamling-mcs/
LOCATION:Skive Sejlklub – Klubhus\, Strandvejen 24\, Skive\, 7800
CATEGORIES:Fælles
END:VEVENT
BEGIN:VEVENT
DTSTART;TZID=Europe/Copenhagen:20200327T190000
DTEND;TZID=Europe/Copenhagen:20200327T210000
DTSTAMP:20260421T134516
CREATED:20200114T095036Z
LAST-MODIFIED:20200121T105044Z
UID:10000060-1585335600-1585342800@skivesejlklub.dk
SUMMARY:Arrangement - VISKI
DESCRIPTION:
URL:https://skivesejlklub.dk/event/generalforsamling-viski/
LOCATION:Skive Sejlklub – Klubhus\, Strandvejen 24\, Skive\, 7800
CATEGORIES:Socialt arrangement
END:VEVENT
BEGIN:VEVENT
DTSTART;TZID=Europe/Copenhagen:20200326T190000
DTEND;TZID=Europe/Copenhagen:20200326T210000
DTSTAMP:20260421T134516
CREATED:20200114T135509Z
LAST-MODIFIED:20200114T182424Z
UID:10000058-1585249200-1585256400@skivesejlklub.dk
SUMMARY:Duelighedsbevis-kursus
DESCRIPTION:Fra Januar 2020 afholder Kristain Meldgaard igen Duelighedsbevis \nKurset løber fra medio Januar til April – dog ikke i uge 7 \nUndervisning foregår i Sejlklubbens lokaler. \nKontakt Kristian eller Carsten på en af følgende mailadresser: \nKristian@midtsejl.dk eller Carsten@midtsejl.dk
URL:https://skivesejlklub.dk/event/duelighedbevis-kursus-opstart-9-februar-og-12-torsdage-frem/2020-03-26/
LOCATION:Skive Sejlklub – Klubhus\, Strandvejen 24\, Skive\, 7800
CATEGORIES:Kursus
END:VEVENT
BEGIN:VEVENT
DTSTART;TZID=Europe/Copenhagen:20200325T170000
DTEND;TZID=Europe/Copenhagen:20200325T200000
DTSTAMP:20260421T134516
CREATED:20200306T105439Z
LAST-MODIFIED:20200318T135031Z
UID:10000039-1585155600-1585166400@skivesejlklub.dk
SUMMARY:AFLYST - Diskussion om fiskepladser i Limfjorden
DESCRIPTION:
URL:https://skivesejlklub.dk/event/diskussion-om-fiskepladser-i-limfjorden/
LOCATION:Skive Sejlklub – Klubhus\, Strandvejen 24\, Skive\, 7800
CATEGORIES:Fælles
END:VEVENT
BEGIN:VEVENT
DTSTART;TZID=Europe/Copenhagen:20200324T180000
DTEND;TZID=Europe/Copenhagen:20200324T210000
DTSTAMP:20260421T134516
CREATED:20200130T130503Z
LAST-MODIFIED:20200318T135023Z
UID:10000045-1585072800-1585083600@skivesejlklub.dk
SUMMARY:AFLYST - Generalforsamling LImfjorden Rundt
DESCRIPTION:
URL:https://skivesejlklub.dk/event/generalforsamling-limfjorden-rundt/
LOCATION:Skive Sejlklub – Klubhus\, Strandvejen 24\, Skive\, 7800
CATEGORIES:Socialt arrangement
END:VEVENT
BEGIN:VEVENT
DTSTART;TZID=Europe/Copenhagen:20200319T190000
DTEND;TZID=Europe/Copenhagen:20200319T210000
DTSTAMP:20260421T134516
CREATED:20200114T135509Z
LAST-MODIFIED:20200318T135006Z
UID:10000040-1584644400-1584651600@skivesejlklub.dk
SUMMARY:Duelighedsbevis-kursus
DESCRIPTION:Fra Januar 2020 afholder Kristain Meldgaard igen Duelighedsbevis \nKurset løber fra medio Januar til April – dog ikke i uge 7 \nUndervisning foregår i Sejlklubbens lokaler. \nKontakt Kristian eller Carsten på en af følgende mailadresser: \nKristian@midtsejl.dk eller Carsten@midtsejl.dk
URL:https://skivesejlklub.dk/event/duelighedbevis-kursus-opstart-9-februar-og-12-torsdage-frem-2020-03-19/
LOCATION:Skive Sejlklub – Klubhus\, Strandvejen 24\, Skive\, 7800
CATEGORIES:Kursus
END:VEVENT
BEGIN:VEVENT
DTSTART;TZID=Europe/Copenhagen:20200318T180000
DTEND;TZID=Europe/Copenhagen:20200318T210000
DTSTAMP:20260421T134516
CREATED:20200113T210320Z
LAST-MODIFIED:20200318T134950Z
UID:10000093-1584554400-1584565200@skivesejlklub.dk
SUMMARY:AFLYST - Gennemgang af flag og startregler
DESCRIPTION:Niels Sohn kommer og fortæller alle om flag og startsynkronisering. \nArrangementet starter kl. 18.00 og der efter er der spisning. \nTilmelding sker kontakt@skivesejlklub.dk
URL:https://skivesejlklub.dk/event/gennemgang-af-flag-og-startregler/
LOCATION:Skive Sejlklub – Klubhus\, Strandvejen 24\, Skive\, 7800
CATEGORIES:Kursus
ATTACH;FMTTYPE=image/jpeg:https://skivesejlklub.dk/wp-content/uploads/2019/12/flag.jpg
END:VEVENT
BEGIN:VEVENT
DTSTART;TZID=Europe/Copenhagen:20200317T163000
DTEND;TZID=Europe/Copenhagen:20200317T193000
DTSTAMP:20260421T134516
CREATED:20200120T093536Z
LAST-MODIFIED:20200120T093536Z
UID:10000043-1584462600-1584473400@skivesejlklub.dk
SUMMARY:Første træning i ungdom for 2020
DESCRIPTION:Mødetid 16.30 og derefter på vandet.
URL:https://skivesejlklub.dk/event/foerste-traening-i-ungdom-for-2020/
LOCATION:Skive Sejlklub – Klubhus\, Strandvejen 24\, Skive\, 7800
END:VEVENT
BEGIN:VEVENT
DTSTART;TZID=Europe/Copenhagen:20200311T190000
DTEND;TZID=Europe/Copenhagen:20200311T220000
DTSTAMP:20260421T134516
CREATED:20200113T210112Z
LAST-MODIFIED:20200114T182201Z
UID:10000087-1583953200-1583964000@skivesejlklub.dk
SUMMARY:Generalforsamling
DESCRIPTION:
URL:https://skivesejlklub.dk/event/generalforsamling/
LOCATION:Skive Sejlklub – Klubhus\, Strandvejen 24\, Skive\, 7800
CATEGORIES:Fælles
END:VEVENT
BEGIN:VEVENT
DTSTART;TZID=Europe/Copenhagen:20200305T173000
DTEND;TZID=Europe/Copenhagen:20200305T210000
DTSTAMP:20260421T134516
CREATED:20200120T093428Z
LAST-MODIFIED:20200120T093428Z
UID:10000042-1583429400-1583442000@skivesejlklub.dk
SUMMARY:Opstartsmøde Ungdom
DESCRIPTION:Opstartsmøde med træning og status over 2019-sæsonen \nDer er fællespisning
URL:https://skivesejlklub.dk/event/opstartsmoede-ungdom/
LOCATION:Skive Sejlklub – Klubhus\, Strandvejen 24\, Skive\, 7800
END:VEVENT
BEGIN:VEVENT
DTSTART;TZID=Europe/Copenhagen:20200304T190000
DTEND;TZID=Europe/Copenhagen:20200304T210000
DTSTAMP:20260421T134516
CREATED:20200115T194139Z
LAST-MODIFIED:20200302T180346Z
UID:10000041-1583348400-1583355600@skivesejlklub.dk
SUMMARY:AFLYST: GARMIN produktaften
DESCRIPTION:Garmin aften i Skive Sejlklub onsdag d 4. marts er aflyst grundet Garmin har fået forbud mod alt rejse aktivitet pga.\nCorona virusen\, \nGarmin\, Værftet Skive samt Skive Sejlklub og MCS inviterer alle interesserede fra alle klubber og havne i Limfjorden\, til Garmin aften i Skive Sejlklub. \nGarmin vil vise og fortælle om de nyste tiltag inden for Garmin bådelektronik.\nMød op denne aften\, prøv de nyeste GPS m m.\nVel mødt.
URL:https://skivesejlklub.dk/event/garmin-produktaften/
LOCATION:Skive Sejlklub – Klubhus\, Strandvejen 24\, Skive\, 7800
CATEGORIES:Foredrag
ATTACH;FMTTYPE=image/png:https://skivesejlklub.dk/wp-content/uploads/2020/01/garmin-gps-logo-E938F7731C-seeklogo.com_.png
END:VEVENT
BEGIN:VEVENT
DTSTART;TZID=Europe/Copenhagen:20200228T190000
DTEND;TZID=Europe/Copenhagen:20200228T210000
DTSTAMP:20260421T134516
CREATED:20200121T105001Z
LAST-MODIFIED:20200121T105001Z
UID:10000044-1582916400-1582923600@skivesejlklub.dk
SUMMARY:Generalforsamling VISKI
DESCRIPTION:
URL:https://skivesejlklub.dk/event/generalforsamling-viski-2/
LOCATION:Skive Sejlklub – Klubhus\, Strandvejen 24\, Skive\, 7800
CATEGORIES:Socialt arrangement
END:VEVENT
BEGIN:VEVENT
DTSTART;TZID=Europe/Copenhagen:20200219T190000
DTEND;TZID=Europe/Copenhagen:20200219T210000
DTSTAMP:20260421T134516
CREATED:20200113T205943Z
LAST-MODIFIED:20200113T215133Z
UID:10000030-1582138800-1582146000@skivesejlklub.dk
SUMMARY:Brasilien og retur!
DESCRIPTION:Foredrag i Skive sejlklub – Onsdag den 19. februar kl 19:00 \nJohn Bryden vil fortælle om sin tur sammen med venner og familie fra Stockholm til Brasilien i sin båd Svalen\, en Hallberg-Rassy 49 i perioden fra maj 2018 til juli 2019. \nForedraget er gratis for medlemmer af Skive Sejlklub. \nJohn Bryden er skotte og foredraget vil blive holdt på en blanding af engelsk og dansk. \nWebside: https://svalen.org/
URL:https://skivesejlklub.dk/event/brasilien-og-retur/
LOCATION:Skive Sejlklub – Klubhus\, Strandvejen 24\, Skive\, 7800
CATEGORIES:Foredrag
ATTACH;FMTTYPE=image/jpeg:https://skivesejlklub.dk/wp-content/uploads/2019/12/svalen.jpg
END:VEVENT
BEGIN:VEVENT
DTSTART;TZID=Europe/Copenhagen:20200123T190000
DTEND;TZID=Europe/Copenhagen:20200123T210000
DTSTAMP:20260421T134516
CREATED:20200114T094230Z
LAST-MODIFIED:20200114T140651Z
UID:10000031-1579806000-1579813200@skivesejlklub.dk
SUMMARY:Foredrag Fulton
DESCRIPTION:Fulton – Danmarks National Skonnert: \nForeningen Limfjorden Rundt indbyder til foredrag af \nChefskipper Jakob Jensen. Fulton. \nMød op og hør om Fulton\, div. historier om skonnerten alle kender. \nTorsdag d. 23. januar 2020. kl. 19.00 i Skive Sejlklub. \nStrandvejen 24. 7800 Skive \nArrangementet er åben for alle\, der har lyst til at høre om Den Danske Kulturarv\, de gamle sejlskibe. Fri adgang\, men\, \nDer er mulighed for at melde sig ind i Foreningen Limfjorden Rundt\, \n1. års kontingent 100.00 kr. så støtter du Danmarks Kulturarv.
URL:https://skivesejlklub.dk/event/foredrag-fulton/
LOCATION:Skive Sejlklub – Klubhus\, Strandvejen 24\, Skive\, 7800
CATEGORIES:Foredrag
END:VEVENT
BEGIN:VEVENT
DTSTART;TZID=Europe/Copenhagen:20200117T180000
DTEND;TZID=Europe/Copenhagen:20200117T235500
DTSTAMP:20260421T134516
CREATED:20200113T205413Z
LAST-MODIFIED:20200114T182211Z
UID:10000027-1579284000-1579305300@skivesejlklub.dk
SUMMARY:Hjælperfest
DESCRIPTION:Hej alle \nBestyrelsen takker for den store frivillige hjælp i løbet af 2019. \nDer er mange\, der har hjulpet til stævner\, festival\, slå græs\, vinterliggeplads etc. \nDerfor holder vi en gratis hjælperfest den 17 Januar der starter kl. 18.00 den 17 Januar i klubhuset. \nEn fest hvor unge som gamle deltager og hvor hyggen er i fokus og et klap på skulderen til alle der gav en hånd med. \nTilmelding sker til omm@outlook.dk \nHilsen \nBestyrelsen
URL:https://skivesejlklub.dk/event/hjaelperfest/
LOCATION:Skive Sejlklub – Klubhus\, Strandvejen 24\, Skive\, 7800
CATEGORIES:Socialt arrangement
END:VEVENT
END:VCALENDAR